Workbook
Name n.v.t.: #REF!
Name waarden: #REF!

Sheet leerrendement
M2: #VALUE!

Sheet blad verbergen
B2: De leerkracht maakt het plan
B4: Je laat ALLEEN de belangrijke bladen staan. | J4: Zo maak je een blad weer ZICHTBAAR
B5: De rest VERBERGEN
B7: 1. Klik met de RECHTER muisknop op het tabblad dat je wilt verbergen. | J7: 1. Klik met de RECHTER muisknop op een willekeurig tabblad.
B8: 2. Klik op het woordje 'Verbergen'. | J8: 2. Klik op het woordje 'Zichtbaar maken'.
J9: 3. Gevraagd wordt welke bladen je zichtbaar wilt maken - die klik je aan
J10: 4. Je kunt meerdere bladen eenvoudig terugzetten door de toets 'ctrl' vast te houden

Sheet schoolweging
B2: Schoolweging | C2: Signaleringswaarde | E2: LG 1S/2F | G2: LG 1F
B4: 20 | C4: 0.683 | E4: 0.779 | G4: 0.987
B5: =B4+0.1 -> 20.1 | C5: 0.683 | E5: 0.779 | G5: 0.987
B6: =B5+0.1 -> 20.2 | C6: 0.683 | E6: 0.779 | G6: 0.987
B7: =B6+0.1 -> 20.3 | C7: 0.683 | E7: 0.779 | G7: 0.987
B8: =B7+0.1 -> 20.4 | C8: 0.683 | E8: 0.779 | G8: 0.987
B9: =B8+0.1 -> 20.5 | C9: 0.683 | E9: 0.779 | G9: 0.987
B10: =B9+0.1 -> 20.6 | C10: 0.683 | E10: 0.779 | G10: 0.987
B11: =B10+0.1 -> 20.7 | C11: 0.683 | E11: 0.779 | G11: 0.987
B12: =B11+0.1 -> 20.8 | C12: 0.683 | E12: 0.779 | G12: 0.987
B13: =B12+0.1 -> 20.9 | C13: 0.683 | E13: 0.779 | G13: 0.987
B14: =B13+0.1 -> 21 | C14: 0.65 | E14: 0.729 | G14: 0.98
B15: =B14+0.1 -> 21.1 | C15: 0.65 | E15: 0.729 | G15: 0.98
B16: =B15+0.1 -> 21.2 | C16: 0.65 | E16: 0.729 | G16: 0.98
... B39: =B38+0.1 -> 23.5 | C39: 0.589 | E39: 0.682 | G39: 0.973
B40: 23.6 | C40: 0.589 | E40: 0.682 | G40: 0.973
B41: 23.7 | C41: 0.589 | E41: 0.682 | G41: 0.973
B42: 23.8 | C42: 0.589 | E42: 0.682 | G42: 0.973
B43: 23.9 | C43: 0.589 | E43: 0.682 | G43: 0.973
B44: 24 | C44: 0.562 | E44: 0.666 | G44: 0.979
B45: 24.1 | C45: 0.562 | E45: 0.666 | G45: 0.979
B46: 24.2 | C46: 0.562 | E46: 0.666 | G46: 0.979
B47: 24.3 | C47: 0.562 | E47: 0.666 | G47: 0.979
B48: 24.4 | C48: 0.562 | E48: 0.666 | G48: 0.979
B49: 24.5 | C49: 0.562 | E49: 0.666 | G49: 0.979
B50: 24.6 | C50: 0.562 | E50: 0.666 | G50: 0.979
B51: 24.7 | C51: 0.562 | E51: 0.666 | G51: 0.979
... B204: 40 | C204: 0.303 | E204: 0.433 | G204: 0.9

Sheet de indicatoren
B6: De indicatoren:
B9: 1.1 De resultaten van de leerlingen aan het eind van de basisschool liggen ten minste op het niveau dat op grond van de kenmerken van de leerlingenpopulatie mag worden verwacht.
B11: 1.1.1 De taalresultaten van de leerlingen aan het eind van de basisschool liggen ten minste op het niveau dat op grond van kenmerken van de leerlingenpopulatie mag worden verwacht.
B13: 1.1.2 De rekenresultaten van de leerlingen aan het eind van de basisschool liggen ten minste op het niveau dat op grond van kenmerken van de leerlingenpopulatie mag worden verwacht.
B15: 1.2 De resultaten van de leerlingen voor Nederlandse taal en voor rekenen en wiskunde tijdens de schoolperiode liggen ten minste op het niveau dat op grond van de kenmerken van
B16: de leerlingenpopulatie mag worden verwacht.
B18: 1.3 De leerlingen doorlopen in beginsel de school binnen de verwachte periode van 8 jaar.
B20: 1.4 Leerlingen met specifieke onderwijsbehoeften ontwikkelen zich naar hun mogelijkheden.
B22: 1.5 De sociale competenties van de leerlingen liggen op een niveau dat mag worden verwacht.
B24: 1.6 De adviezen van de leerlingen voor het vervolgonderwijs zijn in overeenstemming met de verwachtingen op grond van de kenmerken van de leerlingenpopulatie.
B26: 1.7 De leerlingen functioneren naar verwachting in het vervolgonderwijs.

Sheet INTRO

Sheet START

Sheet M3
B2: GROEP | D2: 3 | J2: =IF($D$2=3,"ja",IF($D$2="3A","ja",IF($D$2="3B","ja",IF($D$2="3C","ja")))) -> ja | K2: =IF($D$2=5,"ja",IF($D$2="5A","ja",IF($D$2="5B","ja",IF($D$2="5C","ja")))) -> FALSE | L2: =IF($D$2=4,"ja",IF($D$2="4A","ja",IF($D$2="4B","ja",IF($D$2="4C","ja")))) -> FALSE | M2: =IF($D$2=6,"ja",IF($D$2="6A","ja",IF($D$2="6B","ja",IF($D$2="6C","ja")))) -> FALSE | S2: =IF($D$2=8,"ja",IF($D$2="8A","ja",IF($D$2="8B","ja",IF($D$2="8C","ja")))) -> FALSE
B3: DATUM | D3: 46132 | J3: =IF($D$2=7,"ja",IF($D$2="7A","ja",IF($D$2="7B","ja",IF($D$2="7C","ja")))) -> FALSE | L3: =IF($D$2=8,"ja",IF($D$2="8A","ja",IF($D$2="8B","ja",IF($D$2="8C","ja")))) -> FALSE
B5: Is het kopje groen gekleurd, vul dan de kolom in
B7: Ik gebruik Cito A-B-C-D-E | E7: ja
B8: Ik gebruik Cito 1-2-3-4-5 | E8: =IF(E7="ja","nee",IF(E7="nee","ja",IF(E7="",""))) -> nee
B10: opmerking | C10: opm. | D10: opm. | E10: opm. | F10: opm. | G10: opm. | H10: LEZEN | J10: TAAL | L10: REKENEN | AK10: opm. | AL10: opm. | AO10: opm. | AP10: opm. | AQ10: opm. | AS10: prognose uitstroomniveau | AV10: opm. | AY10: opm.
B11: Naam leerling | C11: Inschatting door de leerling | D11: Aanleg- | E11: Spec. | F11: Doublure | G11: Advies | H11: Technisch | I11: Begrijpend | J11: Spellen | K11: Werkwoord | L11: Hoofd | M11: Rekenen / | N11: Aantal cellen | O11: score | P11: score | Q11: score | R11: totaal | S11: technisch lezen | T11: begrijpend lezen | U11: spellen | V11: werkw | W11: hoofdrekenen | X11: rekenen & wiskunde | Y11: realisatie | AJ11: totaal | AK11: Eind | AL11: Advies | AM11: cijfer | AN11: v>=t | AO11: Doublure | AP11: Spec. | AQ11: Sociaal | AR11: cijfer | AS11: Begrijpend | AT11: Spellen | AU11: Rekenen / | AV11: Plaatsing | AW11: cijfer | AX11: v>=t | AY11: Positie VO | AZ11: cijfer | BA11: v>=t
D12: niveau | E12: behoefte | G12: VO | H12: lezen | I12: lezen | K12: Spellen | L12: rekenen | M12: wiskunde | O12: Rekenen | P12: BL | Q12: Taal | R12: LTR | S12: lezen | T12: lezen | U12: spellen | V12: spellen | W12: rekenen | X12: wiskunde | Z12: A | AA12: B | AB12: C | AC12: D | AD12: E | AE12: 1 | AF12: 2 | AG12: 3 | AH12: 4 | AI12: 5 | AJ12: ingevoerd | AK12: resultaten | AL12: op basis | AP12: behoefte | AQ12: competent | AS12: lezen | AU12: wiskunde | AV12: VO | AY12: na 3 jr.
H13: (1.1.1) | I13: (1.1.1) | J13: (1.1.1) | K13: (1.1.1) | L13: (1.1.2) | M13: (1.1.2) | AK13: (1.1) | AL13: van toetsen | AO13: (1.3) | AP13: (1.4) | AQ13: (1.5) | AS13: (1.1.1) | AT13: (1.1.1) | AU13: (1.1.2) | AV13: (1.6) | AY13: (1.7)
B14: G | D14: A | E14: S | F14: D | G14: A | H14: T | I14: B | J14: S | L14: H | M14: R | AK14: E | AL14: E | AO14: D | AP14: S | AQ14: S | AV14: P | AY14: P
B15: D
B16: I
B17: N
A18: 1 | B18: leerling 1 | C18: 7 | D18: B | L18: B | N18: =COUNTA(I18,J18,M18) -> 0 | O18: =IF(M18="E",1,IF(M18="D",2,IF(M18="C",3,IF(M18="B",4,IF(M18="A",5,IF(M18=5,1,IF(M18=4,2,IF(M18=3,3,IF(M18=2,4,IF(M18=1,5,IF(M18="",""))))))))))) | P18: =IF(I18="E",1,IF(I18="D",2,IF(I18="C",3,IF(I18="B",4,IF(I18="A",5,IF(I18=5,1,IF(I18=4,2,IF(I18=3,3,IF(I18=2,4,IF(I18=1,5,IF(I18="",""))))))))))) | Q18: =IF(J18="E",1,IF(J18="D",2,IF(J18="C",3,IF(J18="B",4,IF(J18="A",5,IF(J18=5,1,IF(J18=4,2,IF(J18=3,3,IF(J18=2,4,IF(J18=1,5,IF(J18="",""))))))))))) | R18: =IF(N18<3,2,IF($D$2<6,0,IF($D$2>=6,SUM(O18:Q18)))) -> 2 | S18: =IF(D18="","",IF(H18="","",IF(H18=$D18,1,IF(H18<$D18,1,IF(H18>$D18,"",IF(H18="A+",1)))))) | T18: =IF(D18="","",IF(I18="","",IF(I18=$D18,1,IF(I18<$D18,1,IF(I18>$D18,"",IF(I18="A+",1)))))) | U18: =IF(D18="","",IF(J18="","",IF(J18=$D18,1,IF(J18<$D18,1,IF(J18>$D18,"",IF(J18="A+",1)))))) | V18: =IF(D18="","",IF(K18="","",IF(K18=$D18,1,IF(K18<$D18,1,IF(K18>$D18,"",IF(K18="A+",1)))))) | W18: =IF(D18="","",IF(L18="","",IF(L18=$D18,1,IF(L18<$D18,1,IF(L18>$D18,"",IF(L18="A+",1)))))) -> 1 | X18: =IF(D18="","",IF(M18="","",IF(M18=$D18,1,IF(M18<$D18,1,IF(M18>$D18,"",IF(M18="A+",1)))))) | Y18: =SUM(S18:X18) -> 1 | Z18: =IF($D18="A",$AK18) -> FALSE | AA18: =IF($D18="B",$AK18) -> 1 | AB18: =IF($D18="C",$AK18) -> FALSE | AC18: =IF($D18="D",$AK18) -> FALSE | AD18: =IF($D18="E",$AK18) -> FALSE | AE18: =IF($D18=1,$AK18) -> FALSE | AF18: =IF($D18=2,$AK18) -> FALSE | AG18: =IF($D18=3,$AK18) -> FALSE | AH18: =IF($D18=4,$AK18) -> FALSE | AI18: =IF($D18=5,$AK18) -> FALSE | AJ18: =IF(D18="","",IF(D18>0,COUNTA(H18:M18))) -> 1 | AK18: =IF(AJ18=0,"",IF(AJ18="","",IF(AJ18>0,Y18/AJ18))) -> 1 | AL18: =IF($D$2<6,"",IF(N18<3,"",IF(R18=15,"Vwo",IF(R18>13,"Havo/Vwo",IF(R18=13,"Havo",IF(R18>11,"TL/Havo",IF(R18=11,"TL",IF(R18>9,"Kader/TL",IF(R18=9,"Kader",IF(R18>6,"BBL/Kader",IF(R18=6,"BBL",IF(R18>3,"PRO/BBL",IF(R18=3,"PRO"))))))))))))) | AM18: =IF(AL18="","",IF(AL18="PRO",1,IF(AL18="PRO/BBL",2,IF(AL18="BBL",3,IF(AL18="BBL/Kader",4,IF(AL18="Kader",5,IF(AL18="Kader/TL",6,IF(AL18="TL",7,IF(AL18="TL/Havo",8,IF(AL18="Havo",9,IF(AL18="Havo/VWO",10,IF(AL18="VWO",11)))))))))))) | AN18: =IF(AM18="",0,IF(AM18<AR18,0,IF(AM18>=AR18,1))) -> 0 | AO18: =IF(F18="","",IF(F18="x",1)) | AP18: =IF(E18="","",IF(E18="X",1)) | AR18: =IF(G18="","",IF(G18="PRO",1,IF(G18="LWOO",2,IF(G18="BBL",3,IF(G18="BBL/Kader",4,IF(G18="Kader",5,IF(G18="Kader/TL",6,IF(G18="TL",7,IF(G18="TL/Havo",8,IF(G18="Havo",9,IF(G18="Havo/VWO",10,IF(G18="VWO",11)))))))))))) | AS18: =IF($D$2<6,"",IF($N18<3,"",IF(P18=1,"<1F",IF(P18>3,"2F",IF(P18>1,"1F"))))) | AT18: =IF($D$2<6,"",IF($N18<3,"",IF(Q18=1,"<1F",IF(Q18>3,"2F",IF(Q18>1,"1F"))))) | AU18: =IF($D$2<6,"",IF($N18<3,"",IF(O18<=2,"<1F",IF(O18>3,"1S",IF(O18>2,"1F"))))) | AZ18: =IF(AY18="","",IF(AY18="PRO",1,IF(AY18="LWOO",2,IF(AY18="BBL",3,IF(AY18="BBL/Kader",4,IF(AY18="Kader",5,IF(AY18="Kader/TL",6,IF(AY18="TL",7,IF(AY18="TL/Havo",8,IF(AY18="Havo",9,IF(AY18="Havo/VWO",10,IF(AY18="VWO",11)))))))))))) | BA18: =IF(AZ18="",0,IF(AZ18<AW18,0,IF(AZ18>=AW18,1))) -> 0
A19: 2 | B19: leerling 2 | D19: C | L19: D | N19: =COUNTA(I19,J19,M19) -> 0 | O19: =IF(M19="E",1,IF(M19="D",2,IF(M19="C",3,IF(M19="B",4,IF(M19="A",5,IF(M19=5,1,IF(M19=4,2,IF(M19=3,3,IF(M19=2,4,IF(M19=1,5,IF(M19="",""))))))))))) | P19: =IF(I19="E",1,IF(I19="D",2,IF(I19="C",3,IF(I19="B",4,IF(I19="A",5,IF(I19=5,1,IF(I19=4,2,IF(I19=3,3,IF(I19=2,4,IF(I19=1,5,IF(I19="",""))))))))))) | Q19: =IF(J19="E",1,IF(J19="D",2,IF(J19="C",3,IF(J19="B",4,IF(J19="A",5,IF(J19=5,1,IF(J19=4,2,IF(J19=3,3,IF(J19=2,4,IF(J19=1,5,IF(J19="",""))))))))))) | R19: =IF($D$2<6,0,IF($D$2>=6,SUM(O19:Q19))) -> 0 | S19: =IF(D19="","",IF(H19="","",IF(H19=$D19,1,IF(H19<$D19,1,IF(H19>$D19,"",IF(H19="A+",1)))))) | T19: =IF(D19="","",IF(I19="","",IF(I19=$D19,1,IF(I19<$D19,1,IF(I19>$D19,"",IF(I19="A+",1)))))) | U19: =IF(D19="","",IF(J19="","",IF(J19=$D19,1,IF(J19<$D19,1,IF(J19>$D19,"",IF(J19="A+",1)))))) | V19: =IF(D19="","",IF(K19="","",IF(K19=$D19,1,IF(K19<$D19,1,IF(K19>$D19,"",IF(K19="A+",1)))))) | W19: =IF(D19="","",IF(L19="","",IF(L19=$D19,1,IF(L19<$D19,1,IF(L19>$D19,"",IF(L19="A+",1)))))) | X19: =IF(D19="","",IF(M19="","",IF(M19=$D19,1,IF(M19<$D19,1,IF(M19>$D19,"",IF(M19="A+",1)))))) | Y19: =SUM(S19:X19) -> 0 | Z19: =IF($D19="A",$AK19) -> FALSE | AA19: =IF($D19="B",$AK19) -> FALSE | AB19: =IF($D19="C",$AK19) -> 0 | AC19: =IF($D19="D",$AK19) -> FALSE | AD19: =IF($D19="E",$AK19) -> FALSE | AE19: =IF($D19="1",$AK19) -> FALSE | AF19: =IF($D19=2,$AK19) -> FALSE | AG19: =IF($D19=3,$AK19) -> FALSE | AH19: =IF($D19=4,$AK19) -> FALSE | AI19: =IF($D19=5,$AK19) -> FALSE | AJ19: =IF(D19="","",IF(D19>0,COUNTA(H19:M19))) -> 1 | AK19: =IF(AJ19=0,"",IF(AJ19="","",IF(AJ19>0,Y19/AJ19))) -> 0 | AL19: =IF($D$2<6,"",IF(N19<3,"",IF(R19=15,"Vwo",IF(R19>13,"Havo/Vwo",IF(R19=13,"Havo",IF(R19>11,"TL/Havo",IF(R19=11,"TL",IF(R19>9,"Kader/TL",IF(R19=9,"Kader",IF(R19>6,"BBL/Kader",IF(R19=6,"BBL",IF(R19>3,"PRO/BBL",IF(R19=3,"PRO"))))))))))))) | AM19: =IF(AL19="","",IF(AL19="PRO",1,IF(AL19="PRO/BBL",2,IF(AL19="BBL",3,IF(AL19="BBL/Kader",4,IF(AL19="Kader",5,IF(AL19="Kader/TL",6,IF(AL19="TL",7,IF(AL19="TL/Havo",8,IF(AL19="Havo",9,IF(AL19="Havo/VWO",10,IF(AL19="VWO",11)))))))))))) | AN19: =IF(AM19="",0,IF(AM19<AR19,0,IF(AM19>=AR19,1))) -> 0 | AO19: =IF(F19="","",IF(F19="x",1)) | AP19: =IF(E19="","",IF(E19="X",1)) | AR19: =IF(G19="","",IF(G19="PRO",1,IF(G19="LWOO",2,IF(G19="BBL",3,IF(G19="BBL/Kader",4,IF(G19="Kader",5,IF(G19="Kader/TL",6,IF(G19="TL",7,IF(G19="TL/Havo",8,IF(G19="Havo",9,IF(G19="Havo/VWO",10,IF(G19="VWO",11)))))))))))) | AS19: =IF($D$2<6,"",IF(N19<3,"",IF(P19=1,"<1F",IF(P19>3,"2F",IF(P19>1,"1F"))))) | AT19: =IF($D$2<6,"",IF($N19<3,"",IF(Q19=1,"<1F",IF(Q19>3,"2F",IF(Q19>1,"1F"))))) | AU19: =IF($D$2<6,"",IF($N19<3,"",IF(O19<=2,"<1F",IF(O19>3,"1S",IF(O19>2,"1F"))))) | AZ19: =IF(AY19="","",IF(AY19="PRO",1,IF(AY19="LWOO",2,IF(AY19="BBL",3,IF(AY19="BBL/Kader",4,IF(AY19="Kader",5,IF(AY19="Kader/TL",6,IF(AY19="TL",7,IF(AY19="TL/Havo",8,IF(AY19="Havo",9,IF(AY19="Havo/VWO",10,IF(AY19="VWO",11)))))))))))) | BA19: =IF(AZ19="",0,IF(AZ19<AW19,0,IF(AZ19>=AW19,1))) -> 0
A20: 3 | B20: leerling 3 | D20: C | L20: D | N20: =COUNTA(I20,J20,M20) -> 0 | O20: =IF(M20="E",1,IF(M20="D",2,IF(M20="C",3,IF(M20="B",4,IF(M20="A",5,IF(M20=5,1,IF(M20=4,2,IF(M20=3,3,IF(M20=2,4,IF(M20=1,5,IF(M20="",""))))))))))) | P20: =IF(I20="E",1,IF(I20="D",2,IF(I20="C",3,IF(I20="B",4,IF(I20="A",5,IF(I20=5,1,IF(I20=4,2,IF(I20=3,3,IF(I20=2,4,IF(I20=1,5,IF(I20="",""))))))))))) | Q20: =IF(J20="E",1,IF(J20="D",2,IF(J20="C",3,IF(J20="B",4,IF(J20="A",5,IF(J20=5,1,IF(J20=4,2,IF(J20=3,3,IF(J20=2,4,IF(J20=1,5,IF(J20="",""))))))))))) | R20: =IF($D$2<6,0,IF($D$2>=6,SUM(O20:Q20))) -> 0 | S20: =IF(D20="","",IF(H20="","",IF(H20=$D20,1,IF(H20<$D20,1,IF(H20>$D20,"",IF(H20="A+",1)))))) | T20: =IF(D20="","",IF(I20="","",IF(I20=$D20,1,IF(I20<$D20,1,IF(I20>$D20,"",IF(I20="A+",1)))))) | U20: =IF(D20="","",IF(J20="","",IF(J20=$D20,1,IF(J20<$D20,1,IF(J20>$D20,"",IF(J20="A+",1)))))) | V20: =IF(D20="","",IF(K20="","",IF(K20=$D20,1,IF(K20<$D20,1,IF(K20>$D20,"",IF(K20="A+",1)))))) | W20: =IF(D20="","",IF(L20="","",IF(L20=$D20,1,IF(L20<$D20,1,IF(L20>$D20,"",IF(L20="A+",1)))))) | X20: =IF(D20="","",IF(M20="","",IF(M20=$D20,1,IF(M20<$D20,1,IF(M20>$D20,"",IF(M20="A+",1)))))) | Y20: =SUM(S20:X20) -> 0 | Z20: =IF($D20="A",$AK20) -> FALSE | AA20: =IF($D20="B",$AK20) -> FALSE | AB20: =IF($D20="C",$AK20) -> 0 | AC20: =IF($D20="D",$AK20) -> FALSE | AD20: =IF($D20="E",$AK20) -> FALSE | AE20: =IF($D20="1",$AK20) -> FALSE | AF20: =IF($D20=2,$AK20) -> FALSE | AG20: =IF($D20=3,$AK20) -> FALSE | AH20: =IF($D20=4,$AK20) -> FALSE | AI20: =IF($D20=5,$AK20) -> FALSE | AJ20: =IF(D20="","",IF(D20>0,COUNTA(H20:M20))) -> 1 | AK20: =IF(AJ20=0,"",IF(AJ20="","",IF(AJ20>0,Y20/AJ20))) -> 0 | AL20: =IF($D$2<6,"",IF(N20<3,"",IF(R20=15,"Vwo",IF(R20>13,"Havo/Vwo",IF(R20=13,"Havo",IF(R20>11,"TL/Havo",IF(R20=11,"TL",IF(R20>9,"Kader/TL",IF(R20=9,"Kader",IF(R20>6,"BBL/Kader",IF(R20=6,"BBL",IF(R20>3,"PRO/BBL",IF(R20=3,"PRO"))))))))))))) | AM20: =IF(AL20="","",IF(AL20="PRO",1,IF(AL20="PRO/BBL",2,IF(AL20="BBL",3,IF(AL20="BBL/Kader",4,IF(AL20="Kader",5,IF(AL20="Kader/TL",6,IF(AL20="TL",7,IF(AL20="TL/Havo",8,IF(AL20="Havo",9,IF(AL20="Havo/VWO",10,IF(AL20="VWO",11)))))))))))) | AN20: =IF(AM20="",0,IF(AM20<AR20,0,IF(AM20>=AR20,1))) -> 0 | AO20: =IF(F20="","",IF(F20="x",1)) | AP20: =IF(E20="","",IF(E20="X",1)) | AR20: =IF(G20="","",IF(G20="PRO",1,IF(G20="LWOO",2,IF(G20="BBL",3,IF(G20="BBL/Kader",4,IF(G20="Kader",5,IF(G20="Kader/TL",6,IF(G20="TL",7,IF(G20="TL/Havo",8,IF(G20="Havo",9,IF(G20="Havo/VWO",10,IF(G20="VWO",11)))))))))))) | AS20: =IF($D$2<6,"",IF(N20<3,"",IF(P20=1,"<1F",IF(P20>3,"2F",IF(P20>1,"1F"))))) | AT20: =IF($D$2<6,"",IF($N20<3,"",IF(Q20=1,"<1F",IF(Q20>3,"2F",IF(Q20>1,"1F"))))) | AU20: =IF($D$2<6,"",IF($N20<3,"",IF(O20<=2,"<1F",IF(O20>3,"1S",IF(O20>2,"1F"))))) | AZ20: =IF(AY20="","",IF(AY20="PRO",1,IF(AY20="LWOO",2,IF(AY20="BBL",3,IF(AY20="BBL/Kader",4,IF(AY20="Kader",5,IF(AY20="Kader/TL",6,IF(AY20="TL",7,IF(AY20="TL/Havo",8,IF(AY20="Havo",9,IF(AY20="Havo/VWO",10,IF(AY20="VWO",11)))))))))))) | BA20: =IF(AZ20="",0,IF(AZ20<AW20,0,IF(AZ20>=AW20,1))) -> 0
A21: 4 | B21: leerling 4 | D21: D | L21: D | N21: =COUNTA(I21,J21,M21) -> 0 | O21: =IF(M21="E",1,IF(M21="D",2,IF(M21="C",3,IF(M21="B",4,IF(M21="A",5,IF(M21=5,1,IF(M21=4,2,IF(M21=3,3,IF(M21=2,4,IF(M21=1,5,IF(M21="",""))))))))))) | P21: =IF(I21="E",1,IF(I21="D",2,IF(I21="C",3,IF(I21="B",4,IF(I21="A",5,IF(I21=5,1,IF(I21=4,2,IF(I21=3,3,IF(I21=2,4,IF(I21=1,5,IF(I21="",""))))))))))) | Q21: =IF(J21="E",1,IF(J21="D",2,IF(J21="C",3,IF(J21="B",4,IF(J21="A",5,IF(J21=5,1,IF(J21=4,2,IF(J21=3,3,IF(J21=2,4,IF(J21=1,5,IF(J21="",""))))))))))) | R21: =IF($D$2<6,0,IF($D$2>=6,SUM(O21:Q21))) -> 0 | S21: =IF(D21="","",IF(H21="","",IF(H21=$D21,1,IF(H21<$D21,1,IF(H21>$D21,"",IF(H21="A+",1)))))) | T21: =IF(D21="","",IF(I21="","",IF(I21=$D21,1,IF(I21<$D21,1,IF(I21>$D21,"",IF(I21="A+",1)))))) | U21: =IF(D21="","",IF(J21="","",IF(J21=$D21,1,IF(J21<$D21,1,IF(J21>$D21,"",IF(J21="A+",1)))))) | V21: =IF(D21="","",IF(K21="","",IF(K21=$D21,1,IF(K21<$D21,1,IF(K21>$D21,"",IF(K21="A+",1)))))) | W21: =IF(D21="","",IF(L21="","",IF(L21=$D21,1,IF(L21<$D21,1,IF(L21>$D21,"",IF(L21="A+",1)))))) -> 1 | X21: =IF(D21="","",IF(M21="","",IF(M21=$D21,1,IF(M21<$D21,1,IF(M21>$D21,"",IF(M21="A+",1)))))) | Y21: =SUM(S21:X21) -> 1 | Z21: =IF($D21="A",$AK21) -> FALSE | AA21: =IF($D21="B",$AK21) -> FALSE | AB21: =IF($D21="C",$AK21) -> FALSE | AC21: =IF($D21="D",$AK21) -> 1 | AD21: =IF($D21="E",$AK21) -> FALSE | AE21: =IF($D21="1",$AK21) -> FALSE | AF21: =IF($D21=2,$AK21) -> FALSE | AG21: =IF($D21=3,$AK21) -> FALSE | AH21: =IF($D21=4,$AK21) -> FALSE | AI21: =IF($D21=5,$AK21) -> FALSE | AJ21: =IF(D21="","",IF(D21>0,COUNTA(H21:M21))) -> 1 | AK21: =IF(AJ21=0,"",IF(AJ21="","",IF(AJ21>0,Y21/AJ21))) -> 1 | AL21: =IF($D$2<6,"",IF(N21<3,"",IF(R21=15,"Vwo",IF(R21>13,"Havo/Vwo",IF(R21=13,"Havo",IF(R21>11,"TL/Havo",IF(R21=11,"TL",IF(R21>9,"Kader/TL",IF(R21=9,"Kader",IF(R21>6,"BBL/Kader",IF(R21=6,"BBL",IF(R21>3,"PRO/BBL",IF(R21=3,"PRO"))))))))))))) | AM21: =IF(AL21="","",IF(AL21="PRO",1,IF(AL21="PRO/BBL",2,IF(AL21="BBL",3,IF(AL21="BBL/Kader",4,IF(AL21="Kader",5,IF(AL21="Kader/TL",6,IF(AL21="TL",7,IF(AL21="TL/Havo",8,IF(AL21="Havo",9,IF(AL21="Havo/VWO",10,IF(AL21="VWO",11)))))))))))) | AN21: =IF(AM21="",0,IF(AM21<AR21,0,IF(AM21>=AR21,1))) -> 0 | AO21: =IF(F21="","",IF(F21="x",1)) | AP21: =IF(E21="","",IF(E21="X",1)) | AR21: =IF(G21="","",IF(G21="PRO",1,IF(G21="LWOO",2,IF(G21="BBL",3,IF(G21="BBL/Kader",4,IF(G21="Kader",5,IF(G21="Kader/TL",6,IF(G21="TL",7,IF(G21="TL/Havo",8,IF(G21="Havo",9,IF(G21="Havo/VWO",10,IF(G21="VWO",11)))))))))))) | AS21: =IF($D$2<6,"",IF(N21<3,"",IF(P21=1,"<1F",IF(P21>3,"2F",IF(P21>1,"1F"))))) | AT21: =IF($D$2<6,"",IF($N21<3,"",IF(Q21=1,"<1F",IF(Q21>3,"2F",IF(Q21>1,"1F"))))) | AU21: =IF($D$2<6,"",IF($N21<3,"",IF(O21<=2,"<1F",IF(O21>3,"1S",IF(O21>2,"1F"))))) | AZ21: =IF(AY21="","",IF(AY21="PRO",1,IF(AY21="LWOO",2,IF(AY21="BBL",3,IF(AY21="BBL/Kader",4,IF(AY21="Kader",5,IF(AY21="Kader/TL",6,IF(AY21="TL",7,IF(AY21="TL/Havo",8,IF(AY21="Havo",9,IF(AY21="Havo/VWO",10,IF(AY21="VWO",11)))))))))))) | BA21: =IF(AZ21="",0,IF(AZ21<AW21,0,IF(AZ21>=AW21,1))) -> 0
A22: 5 | B22: leerling 5 | D22: C | L22: C | N22: =COUNTA(I22,J22,M22) -> 0 | O22: =IF(M22="E",1,IF(M22="D",2,IF(M22="C",3,IF(M22="B",4,IF(M22="A",5,IF(M22=5,1,IF(M22=4,2,IF(M22=3,3,IF(M22=2,4,IF(M22=1,5,IF(M22="",""))))))))))) | P22: =IF(I22="E",1,IF(I22="D",2,IF(I22="C",3,IF(I22="B",4,IF(I22="A",5,IF(I22=5,1,IF(I22=4,2,IF(I22=3,3,IF(I22=2,4,IF(I22=1,5,IF(I22="",""))))))))))) | Q22: =IF(J22="E",1,IF(J22="D",2,IF(J22="C",3,IF(J22="B",4,IF(J22="A",5,IF(J22=5,1,IF(J22=4,2,IF(J22=3,3,IF(J22=2,4,IF(J22=1,5,IF(J22="",""))))))))))) | R22: =IF($D$2<6,0,IF($D$2>=6,SUM(O22:Q22))) -> 0 | S22: =IF(D22="","",IF(H22="","",IF(H22=$D22,1,IF(H22<$D22,1,IF(H22>$D22,"",IF(H22="A+",1)))))) | T22: =IF(D22="","",IF(I22="","",IF(I22=$D22,1,IF(I22<$D22,1,IF(I22>$D22,"",IF(I22="A+",1)))))) | U22: =IF(D22="","",IF(J22="","",IF(J22=$D22,1,IF(J22<$D22,1,IF(J22>$D22,"",IF(J22="A+",1)))))) | V22: =IF(D22="","",IF(K22="","",IF(K22=$D22,1,IF(K22<$D22,1,IF(K22>$D22,"",IF(K22="A+",1)))))) | W22: =IF(D22="","",IF(L22="","",IF(L22=$D22,1,IF(L22<$D22,1,IF(L22>$D22,"",IF(L22="A+",1)))))) -> 1 | X22: =IF(D22="","",IF(M22="","",IF(M22=$D22,1,IF(M22<$D22,1,IF(M22>$D22,"",IF(M22="A+",1)))))) | Y22: =SUM(S22:X22) -> 1 | Z22: =IF($D22="A",$AK22) -> FALSE | AA22: =IF($D22="B",$AK22) -> FALSE | AB22: =IF($D22="C",$AK22) -> 1 | AC22: =IF($D22="D",$AK22) -> FALSE | AD22: =IF($D22="E",$AK22) -> FALSE | AE22: =IF($D22="1",$AK22) -> FALSE | AF22: =IF($D22=2,$AK22) -> FALSE | AG22: =IF($D22=3,$AK22) -> FALSE | AH22: =IF($D22=4,$AK22) -> FALSE | AI22: =IF($D22=5,$AK22) -> FALSE | AJ22: =IF(D22="","",IF(D22>0,COUNTA(H22:M22))) -> 1 | AK22: =IF(AJ22=0,"",IF(AJ22="","",IF(AJ22>0,Y22/AJ22))) -> 1 | AL22: =IF($D$2<6,"",IF(N22<3,"",IF(R22=15,"Vwo",IF(R22>13,"Havo/Vwo",IF(R22=13,"Havo",IF(R22>11,"TL/Havo",IF(R22=11,"TL",IF(R22>9,"Kader/TL",IF(R22=9,"Kader",IF(R22>6,"BBL/Kader",IF(R22=6,"BBL",IF(R22>3,"PRO/BBL",IF(R22=3,"PRO"))))))))))))) | AM22: =IF(AL22="","",IF(AL22="PRO",1,IF(AL22="PRO/BBL",2,IF(AL22="BBL",3,IF(AL22="BBL/Kader",4,IF(AL22="Kader",5,IF(AL22="Kader/TL",6,IF(AL22="TL",7,IF(AL22="TL/Havo",8,IF(AL22="Havo",9,IF(AL22="Havo/VWO",10,IF(AL22="VWO",11)))))))))))) | AN22: =IF(AM22="",0,IF(AM22<AR22,0,IF(AM22>=AR22,1))) -> 0 | AO22: =IF(F22="","",IF(F22="x",1)) | AP22: =IF(E22="","",IF(E22="X",1)) | AR22: =IF(G22="","",IF(G22="PRO",1,IF(G22="LWOO",2,IF(G22="BBL",3,IF(G22="BBL/Kader",4,IF(G22="Kader",5,IF(G22="Kader/TL",6,IF(G22="TL",7,IF(G22="TL/Havo",8,IF(G22="Havo",9,IF(G22="Havo/VWO",10,IF(G22="VWO",11)))))))))))) | AS22: =IF($D$2<6,"",IF(N22<3,"",IF(P22=1,"<1F",IF(P22>3,"2F",IF(P22>1,"1F"))))) | AT22: =IF($D$2<6,"",IF($N22<3,"",IF(Q22=1,"<1F",IF(Q22>3,"2F",IF(Q22>1,"1F"))))) | AU22: =IF($D$2<6,"",IF($N22<3,"",IF(O22<=2,"<1F",IF(O22>3,"1S",IF(O22>2,"1F"))))) | AZ22: =IF(AY22="","",IF(AY22="PRO",1,IF(AY22="LWOO",2,IF(AY22="BBL",3,IF(AY22="BBL/Kader",4,IF(AY22="Kader",5,IF(AY22="Kader/TL",6,IF(AY22="TL",7,IF(AY22="TL/Havo",8,IF(AY22="Havo",9,IF(AY22="Havo/VWO",10,IF(AY22="VWO",11)))))))))))) | BA22: =IF(AZ22="",0,IF(AZ22<AW22,0,IF(AZ22>=AW22,1))) -> 0
A23: 6 | B23: leerling 6 | D23: D | L23: D | N23: =COUNTA(I23,J23,M23) -> 0 | O23: =IF(M23="E",1,IF(M23="D",2,IF(M23="C",3,IF(M23="B",4,IF(M23="A",5,IF(M23=5,1,IF(M23=4,2,IF(M23=3,3,IF(M23=2,4,IF(M23=1,5,IF(M23="",""))))))))))) | P23: =IF(I23="E",1,IF(I23="D",2,IF(I23="C",3,IF(I23="B",4,IF(I23="A",5,IF(I23=5,1,IF(I23=4,2,IF(I23=3,3,IF(I23=2,4,IF(I23=1,5,IF(I23="",""))))))))))) | Q23: =IF(J23="E",1,IF(J23="D",2,IF(J23="C",3,IF(J23="B",4,IF(J23="A",5,IF(J23=5,1,IF(J23=4,2,IF(J23=3,3,IF(J23=2,4,IF(J23=1,5,IF(J23="",""))))))))))) | R23: =IF($D$2<6,0,IF($D$2>=6,SUM(O23:Q23))) -> 0 | S23: =IF(D23="","",IF(H23="","",IF(H23=$D23,1,IF(H23<$D23,1,IF(H23>$D23,"",IF(H23="A+",1)))))) | T23: =IF(D23="","",IF(I23="","",IF(I23=$D23,1,IF(I23<$D23,1,IF(I23>$D23,"",IF(I23="A+",1)))))) | U23: =IF(D23="","",IF(J23="","",IF(J23=$D23,1,IF(J23<$D23,1,IF(J23>$D23,"",IF(J23="A+",1)))))) | V23: =IF(D23="","",IF(K23="","",IF(K23=$D23,1,IF(K23<$D23,1,IF(K23>$D23,"",IF(K23="A+",1)))))) | W23: =IF(D23="","",IF(L23="","",IF(L23=$D23,1,IF(L23<$D23,1,IF(L23>$D23,"",IF(L23="A+",1)))))) -> 1 | X23: =IF(D23="","",IF(M23="","",IF(M23=$D23,1,IF(M23<$D23,1,IF(M23>$D23,"",IF(M23="A+",1)))))) | Y23: =SUM(S23:X23) -> 1 | Z23: =IF($D23="A",$AK23) -> FALSE | AA23: =IF($D23="B",$AK23) -> FALSE | AB23: =IF($D23="C",$AK23) -> FALSE | AC23: =IF($D23="D",$AK23) -> 1 | AD23: =IF($D23="E",$AK23) -> FALSE | AE23: =IF($D23="1",$AK23) -> FALSE | AF23: =IF($D23=2,$AK23) -> FALSE | AG23: =IF($D23=3,$AK23) -> FALSE | AH23: =IF($D23=4,$AK23) -> FALSE | AI23: =IF($D23=5,$AK23) -> FALSE | AJ23: =IF(D23="","",IF(D23>0,COUNTA(H23:M23))) -> 1 | AK23: =IF(AJ23=0,"",IF(AJ23="","",IF(AJ23>0,Y23/AJ23))) -> 1 | AL23: =IF($D$2<6,"",IF(N23<3,"",IF(R23=15,"Vwo",IF(R23>13,"Havo/Vwo",IF(R23=13,"Havo",IF(R23>11,"TL/Havo",IF(R23=11,"TL",IF(R23>9,"Kader/TL",IF(R23=9,"Kader",IF(R23>6,"BBL/Kader",IF(R23=6,"BBL",IF(R23>3,"PRO/BBL",IF(R23=3,"PRO"))))))))))))) | AM23: =IF(AL23="","",IF(AL23="PRO",1,IF(AL23="PRO/BBL",2,IF(AL23="BBL",3,IF(AL23="BBL/Kader",4,IF(AL23="Kader",5,IF(AL23="Kader/TL",6,IF(AL23="TL",7,IF(AL23="TL/Havo",8,IF(AL23="Havo",9,IF(AL23="Havo/VWO",10,IF(AL23="VWO",11)))))))))))) | AN23: =IF(AM23="",0,IF(AM23<AR23,0,IF(AM23>=AR23,1))) -> 0 | AO23: =IF(F23="","",IF(F23="x",1)) | AP23: =IF(E23="","",IF(E23="X",1)) | AR23: =IF(G23="","",IF(G23="PRO",1,IF(G23="LWOO",2,IF(G23="BBL",3,IF(G23="BBL/Kader",4,IF(G23="Kader",5,IF(G23="Kader/TL",6,IF(G23="TL",7,IF(G23="TL/Havo",8,IF(G23="Havo",9,IF(G23="Havo/VWO",10,IF(G23="VWO",11)))))))))))) | AS23: =IF($D$2<6,"",IF(N23<3,"",IF(P23=1,"<1F",IF(P23>3,"2F",IF(P23>1,"1F"))))) | AT23: =IF($D$2<6,"",IF($N23<3,"",IF(Q23=1,"<1F",IF(Q23>3,"2F",IF(Q23>1,"1F"))))) | AU23: =IF($D$2<6,"",IF($N23<3,"",IF(O23<=2,"<1F",IF(O23>3,"1S",IF(O23>2,"1F"))))) | AZ23: =IF(AY23="","",IF(AY23="PRO",1,IF(AY23="LWOO",2,IF(AY23="BBL",3,IF(AY23="BBL/Kader",4,IF(AY23="Kader",5,IF(AY23="Kader/TL",6,IF(AY23="TL",7,IF(AY23="TL/Havo",8,IF(AY23="Havo",9,IF(AY23="Havo/VWO",10,IF(AY23="VWO",11)))))))))))) | BA23: =IF(AZ23="",0,IF(AZ23<AW23,0,IF(AZ23>=AW23,1))) -> 0
A24: 7 | B24: leerling 7 | D24: B | L24: B | N24: =COUNTA(I24,J24,M24) -> 0 | O24: =IF(M24="E",1,IF(M24="D",2,IF(M24="C",3,IF(M24="B",4,IF(M24="A",5,IF(M24=5,1,IF(M24=4,2,IF(M24=3,3,IF(M24=2,4,IF(M24=1,5,IF(M24="",""))))))))))) | P24: =IF(I24="E",1,IF(I24="D",2,IF(I24="C",3,IF(I24="B",4,IF(I24="A",5,IF(I24=5,1,IF(I24=4,2,IF(I24=3,3,IF(I24=2,4,IF(I24=1,5,IF(I24="",""))))))))))) | Q24: =IF(J24="E",1,IF(J24="D",2,IF(J24="C",3,IF(J24="B",4,IF(J24="A",5,IF(J24=5,1,IF(J24=4,2,IF(J24=3,3,IF(J24=2,4,IF(J24=1,5,IF(J24="",""))))))))))) | R24: =IF($D$2<6,0,IF($D$2>=6,SUM(O24:Q24))) -> 0 | S24: =IF(D24="","",IF(H24="","",IF(H24=$D24,1,IF(H24<$D24,1,IF(H24>$D24,"",IF(H24="A+",1)))))) | T24: =IF(D24="","",IF(I24="","",IF(I24=$D24,1,IF(I24<$D24,1,IF(I24>$D24,"",IF(I24="A+",1)))))) | U24: =IF(D24="","",IF(J24="","",IF(J24=$D24,1,IF(J24<$D24,1,IF(J24>$D24,"",IF(J24="A+",1)))))) | V24: =IF(D24="","",IF(K24="","",IF(K24=$D24,1,IF(K24<$D24,1,IF(K24>$D24,"",IF(K24="A+",1)))))) | W24: =IF(D24="","",IF(L24="","",IF(L24=$D24,1,IF(L24<$D24,1,IF(L24>$D24,"",IF(L24="A+",1)))))) -> 1 | X24: =IF(D24="","",IF(M24="","",IF(M24=$D24,1,IF(M24<$D24,1,IF(M24>$D24,"",IF(M24="A+",1)))))) | Y24: =SUM(S24:X24) -> 1 | Z24: =IF($D24="A",$AK24) -> FALSE | AA24: =IF($D24="B",$AK24) -> 1 | AB24: =IF($D24="C",$AK24) -> FALSE | AC24: =IF($D24="D",$AK24) -> FALSE | AD24: =IF($D24="E",$AK24) -> FALSE | AE24: =IF($D24="1",$AK24) -> FALSE | AF24: =IF($D24=2,$AK24) -> FALSE | AG24: =IF($D24=3,$AK24) -> FALSE | AH24: =IF($D24=4,$AK24) -> FALSE | AI24: =IF($D24=5,$AK24) -> FALSE | AJ24: =IF(D24="","",IF(D24>0,COUNTA(H24:M24))) -> 1 | AK24: =IF(AJ24=0,"",IF(AJ24="","",IF(AJ24>0,Y24/AJ24))) -> 1 | AL24: =IF($D$2<6,"",IF(N24<3,"",IF(R24=15,"Vwo",IF(R24>13,"Havo/Vwo",IF(R24=13,"Havo",IF(R24>11,"TL/Havo",IF(R24=11,"TL",IF(R24>9,"Kader/TL",IF(R24=9,"Kader",IF(R24>6,"BBL/Kader",IF(R24=6,"BBL",IF(R24>3,"PRO/BBL",IF(R24=3,"PRO"))))))))))))) | AM24: =IF(AL24="","",IF(AL24="PRO",1,IF(AL24="PRO/BBL",2,IF(AL24="BBL",3,IF(AL24="BBL/Kader",4,IF(AL24="Kader",5,IF(AL24="Kader/TL",6,IF(AL24="TL",7,IF(AL24="TL/Havo",8,IF(AL24="Havo",9,IF(AL24="Havo/VWO",10,IF(AL24="VWO",11)))))))))))) | AN24: =IF(AM24="",0,IF(AM24<AR24,0,IF(AM24>=AR24,1))) -> 0 | AO24: =IF(F24="","",IF(F24="x",1)) | AP24: =IF(E24="","",IF(E24="X",1)) | AR24: =IF(G24="","",IF(G24="PRO",1,IF(G24="LWOO",2,IF(G24="BBL",3,IF(G24="BBL/Kader",4,IF(G24="Kader",5,IF(G24="Kader/TL",6,IF(G24="TL",7,IF(G24="TL/Havo",8,IF(G24="Havo",9,IF(G24="Havo/VWO",10,IF(G24="VWO",11)))))))))))) | AS24: =IF($D$2<6,"",IF(N24<3,"",IF(P24=1,"<1F",IF(P24>3,"2F",IF(P24>1,"1F"))))) | AT24: =IF($D$2<6,"",IF($N24<3,"",IF(Q24=1,"<1F",IF(Q24>3,"2F",IF(Q24>1,"1F"))))) | AU24: =IF($D$2<6,"",IF($N24<3,"",IF(O24<=2,"<1F",IF(O24>3,"1S",IF(O24>2,"1F"))))) | AZ24: =IF(AY24="","",IF(AY24="PRO",1,IF(AY24="LWOO",2,IF(AY24="BBL",3,IF(AY24="BBL/Kader",4,IF(AY24="Kader",5,IF(AY24="Kader/TL",6,IF(AY24="TL",7,IF(AY24="TL/Havo",8,IF(AY24="Havo",9,IF(AY24="Havo/VWO",10,IF(AY24="VWO",11)))))))))))) | BA24: =IF(AZ24="",0,IF(AZ24<AW24,0,IF(AZ24>=AW24,1))) -> 0
A25: 8 | B25: leerling 8 | D25: B | L25: B | N25: =COUNTA(I25,J25,M25) -> 0 | O25: =IF(M25="E",1,IF(M25="D",2,IF(M25="C",3,IF(M25="B",4,IF(M25="A",5,IF(M25=5,1,IF(M25=4,2,IF(M25=3,3,IF(M25=2,4,IF(M25=1,5,IF(M25="",""))))))))))) | P25: =IF(I25="E",1,IF(I25="D",2,IF(I25="C",3,IF(I25="B",4,IF(I25="A",5,IF(I25=5,1,IF(I25=4,2,IF(I25=3,3,IF(I25=2,4,IF(I25=1,5,IF(I25="",""))))))))))) | Q25: =IF(J25="E",1,IF(J25="D",2,IF(J25="C",3,IF(J25="B",4,IF(J25="A",5,IF(J25=5,1,IF(J25=4,2,IF(J25=3,3,IF(J25=2,4,IF(J25=1,5,IF(J25="",""))))))))))) | R25: =IF($D$2<6,0,IF($D$2>=6,SUM(O25:Q25))) -> 0 | S25: =IF(D25="","",IF(H25="","",IF(H25=$D25,1,IF(H25<$D25,1,IF(H25>$D25,"",IF(H25="A+",1)))))) | T25: =IF(D25="","",IF(I25="","",IF(I25=$D25,1,IF(I25<$D25,1,IF(I25>$D25,"",IF(I25="A+",1)))))) | U25: =IF(D25="","",IF(J25="","",IF(J25=$D25,1,IF(J25<$D25,1,IF(J25>$D25,"",IF(J25="A+",1)))))) | V25: =IF(D25="","",IF(K25="","",IF(K25=$D25,1,IF(K25<$D25,1,IF(K25>$D25,"",IF(K25="A+",1)))))) | W25: =IF(D25="","",IF(L25="","",IF(L25=$D25,1,IF(L25<$D25,1,IF(L25>$D25,"",IF(L25="A+",1)))))) -> 1 | X25: =IF(D25="","",IF(M25="","",IF(M25=$D25,1,IF(M25<$D25,1,IF(M25>$D25,"",IF(M25="A+",1)))))) | Y25: =SUM(S25:X25) -> 1 | Z25: =IF($D25="A",$AK25) -> FALSE | AA25: =IF($D25="B",$AK25) -> 1 | AB25: =IF($D25="C",$AK25) -> FALSE | AC25: =IF($D25="D",$AK25) -> FALSE | AD25: =IF($D25="E",$AK25) -> FALSE | AE25: =IF($D25="1",$AK25) -> FALSE | AF25: =IF($D25=2,$AK25) -> FALSE | AG25: =IF($D25=3,$AK25) -> FALSE | AH25: =IF($D25=4,$AK25) -> FALSE | AI25: =IF($D25=5,$AK25) -> FALSE | AJ25: =IF(D25="","",IF(D25>0,COUNTA(H25:M25))) -> 1 | AK25: =IF(AJ25=0,"",IF(AJ25="","",IF(AJ25>0,Y25/AJ25))) -> 1 | AL25: =IF($D$2<6,"",IF(N25<3,"",IF(R25=15,"Vwo",IF(R25>13,"Havo/Vwo",IF(R25=13,"Havo",IF(R25>11,"TL/Havo",IF(R25=11,"TL",IF(R25>9,"Kader/TL",IF(R25=9,"Kader",IF(R25>6,"BBL/Kader",IF(R25=6,"BBL",IF(R25>3,"PRO/BBL",IF(R25=3,"PRO"))))))))))))) | AM25: =IF(AL25="","",IF(AL25="PRO",1,IF(AL25="PRO/BBL",2,IF(AL25="BBL",3,IF(AL25="BBL/Kader",4,IF(AL25="Kader",5,IF(AL25="Kader/TL",6,IF(AL25="TL",7,IF(AL25="TL/Havo",8,IF(AL25="Havo",9,IF(AL25="Havo/VWO",10,IF(AL25="VWO",11)))))))))))) | AN25: =IF(AM25="",0,IF(AM25<AR25,0,IF(AM25>=AR25,1))) -> 0 | AO25: =IF(F25="","",IF(F25="x",1)) | AP25: =IF(E25="","",IF(E25="X",1)) | AR25: =IF(G25="","",IF(G25="PRO",1,IF(G25="LWOO",2,IF(G25="BBL",3,IF(G25="BBL/Kader",4,IF(G25="Kader",5,IF(G25="Kader/TL",6,IF(G25="TL",7,IF(G25="TL/Havo",8,IF(G25="Havo",9,IF(G25="Havo/VWO",10,IF(G25="VWO",11)))))))))))) | AS25: =IF($D$2<6,"",IF(N25<3,"",IF(P25=1,"<1F",IF(P25>3,"2F",IF(P25>1,"1F"))))) | AT25: =IF($D$2<6,"",IF($N25<3,"",IF(Q25=1,"<1F",IF(Q25>3,"2F",IF(Q25>1,"1F"))))) | AU25: =IF($D$2<6,"",IF($N25<3,"",IF(O25<=2,"<1F",IF(O25>3,"1S",IF(O25>2,"1F"))))) | AW25: =IF(AV25="","",IF(AV25="PRO",1,IF(AV25="LWOO",2,IF(AV25="BBL",3,IF(AV25="BBL/Kader",4,IF(AV25="Kader",5,IF(AV25="Kader/TL",6,IF(AV25="TL",7,IF(AV25="TL/Havo",8,IF(AV25="Havo",9,IF(AV25="Havo/VWO",10,IF(AV25="VWO",11)))))))))))) | AX25: =IF(AW25="",0,IF(AW25<AR25,0,IF(AW25>=AR25,1))) -> 0 | AZ25: =IF(AY25="","",IF(AY25="PRO",1,IF(AY25="LWOO",2,IF(AY25="BBL",3,IF(AY25="BBL/Kader",4,IF(AY25="Kader",5,IF(AY25="Kader/TL",6,IF(AY25="TL",7,IF(AY25="TL/Havo",8,IF(AY25="Havo",9,IF(AY25="Havo/VWO",10,IF(AY25="VWO",11)))))))))))) | BA25: =IF(AZ25="",0,IF(AZ25<AW25,0,IF(AZ25>=AW25,1))) -> 0
A26: 9 | B26: leerling 9 | D26: B | L26: C | N26: =COUNTA(I26,J26,M26) -> 0 | O26: =IF(M26="E",1,IF(M26="D",2,IF(M26="C",3,IF(M26="B",4,IF(M26="A",5,IF(M26=5,1,IF(M26=4,2,IF(M26=3,3,IF(M26=2,4,IF(M26=1,5,IF(M26="",""))))))))))) | P26: =IF(I26="E",1,IF(I26="D",2,IF(I26="C",3,IF(I26="B",4,IF(I26="A",5,IF(I26=5,1,IF(I26=4,2,IF(I26=3,3,IF(I26=2,4,IF(I26=1,5,IF(I26="",""))))))))))) | Q26: =IF(J26="E",1,IF(J26="D",2,IF(J26="C",3,IF(J26="B",4,IF(J26="A",5,IF(J26=5,1,IF(J26=4,2,IF(J26=3,3,IF(J26=2,4,IF(J26=1,5,IF(J26="",""))))))))))) | R26: =IF($D$2<6,0,IF($D$2>=6,SUM(O26:Q26))) -> 0 | S26: =IF(D26="","",IF(H26="","",IF(H26=$D26,1,IF(H26<$D26,1,IF(H26>$D26,"",IF(H26="A+",1)))))) | T26: =IF(D26="","",IF(I26="","",IF(I26=$D26,1,IF(I26<$D26,1,IF(I26>$D26,"",IF(I26="A+",1)))))) | U26: =IF(D26="","",IF(J26="","",IF(J26=$D26,1,IF(J26<$D26,1,IF(J26>$D26,"",IF(J26="A+",1)))))) | V26: =IF(D26="","",IF(K26="","",IF(K26=$D26,1,IF(K26<$D26,1,IF(K26>$D26,"",IF(K26="A+",1)))))) | W26: =IF(D26="","",IF(L26="","",IF(L26=$D26,1,IF(L26<$D26,1,IF(L26>$D26,"",IF(L26="A+",1)))))) | X26: =IF(D26="","",IF(M26="","",IF(M26=$D26,1,IF(M26<$D26,1,IF(M26>$D26,"",IF(M26="A+",1)))))) | Y26: =SUM(S26:X26) -> 0 | Z26: =IF($D26="A",$AK26) -> FALSE | AA26: =IF($D26="B",$AK26) -> 0 | AB26: =IF($D26="C",$AK26) -> FALSE | AC26: =IF($D26="D",$AK26) -> FALSE | AD26: =IF($D26="E",$AK26) -> FALSE | AE26: =IF($D26="1",$AK26) -> FALSE | AF26: =IF($D26=2,$AK26) -> FALSE | AG26: =IF($D26=3,$AK26) -> FALSE | AH26: =IF($D26=4,$AK26) -> FALSE | AI26: =IF($D26=5,$AK26) -> FALSE | AJ26: =IF(D26="","",IF(D26>0,COUNTA(H26:M26))) -> 1 | AK26: =IF(AJ26=0,"",IF(AJ26="","",IF(AJ26>0,Y26/AJ26))) -> 0 | AL26: =IF($D$2<6,"",IF(N26<3,"",IF(R26=15,"Vwo",IF(R26>13,"Havo/Vwo",IF(R26=13,"Havo",IF(R26>11,"TL/Havo",IF(R26=11,"TL",IF(R26>9,"Kader/TL",IF(R26=9,"Kader",IF(R26>6,"BBL/Kader",IF(R26=6,"BBL",IF(R26>3,"PRO/BBL",IF(R26=3,"PRO"))))))))))))) | AM26: =IF(AL26="","",IF(AL26="PRO",1,IF(AL26="PRO/BBL",2,IF(AL26="BBL",3,IF(AL26="BBL/Kader",4,IF(AL26="Kader",5,IF(AL26="Kader/TL",6,IF(AL26="TL",7,IF(AL26="TL/Havo",8,IF(AL26="Havo",9,IF(AL26="Havo/VWO",10,IF(AL26="VWO",11)))))))))))) | AN26: =IF(AM26="",0,IF(AM26<AR26,0,IF(AM26>=AR26,1))) -> 0 | AO26: =IF(F26="","",IF(F26="x",1)) | AP26: =IF(E26="","",IF(E26="X",1)) | AR26: =IF(G26="","",IF(G26="PRO",1,IF(G26="LWOO",2,IF(G26="BBL",3,IF(G26="BBL/Kader",4,IF(G26="Kader",5,IF(G26="Kader/TL",6,IF(G26="TL",7,IF(G26="TL/Havo",8,IF(G26="Havo",9,IF(G26="Havo/VWO",10,IF(G26="VWO",11)))))))))))) | AS26: =IF($D$2<6,"",IF(N26<3,"",IF(P26=1,"<1F",IF(P26>3,"2F",IF(P26>1,"1F"))))) | AT26: =IF($D$2<6,"",IF($N26<3,"",IF(Q26=1,"<1F",IF(Q26>3,"2F",IF(Q26>1,"1F"))))) | AU26: =IF($D$2<6,"",IF($N26<3,"",IF(O26<=2,"<1F",IF(O26>3,"1S",IF(O26>2,"1F"))))) | AW26: =IF(AV26="","",IF(AV26="PRO",1,IF(AV26="LWOO",2,IF(AV26="BBL",3,IF(AV26="BBL/Kader",4,IF(AV26="Kader",5,IF(AV26="Kader/TL",6,IF(AV26="TL",7,IF(AV26="TL/Havo",8,IF(AV26="Havo",9,IF(AV26="Havo/VWO",10,IF(AV26="VWO",11)))))))))))) | AX26: =IF(AW26="",0,IF(AW26<AR26,0,IF(AW26>=AR26,1))) -> 0 | AZ26: =IF(AY26="","",IF(AY26="PRO",1,IF(AY26="LWOO",2,IF(AY26="BBL",3,IF(AY26="BBL/Kader",4,IF(AY26="Kader",5,IF(AY26="Kader/TL",6,IF(AY26="TL",7,IF(AY26="TL/Havo",8,IF(AY26="Havo",9,IF(AY26="Havo/VWO",10,IF(AY26="VWO",11)))))))))))) | BA26: =IF(AZ26="",0,IF(AZ26<AW26,0,IF(AZ26>=AW26,1))) -> 0
A27: 10 | B27: leerling 10 | D27: D | L27: D | N27: =COUNTA(I27,J27,M27) -> 0 | O27: =IF(M27="E",1,IF(M27="D",2,IF(M27="C",3,IF(M27="B",4,IF(M27="A",5,IF(M27=5,1,IF(M27=4,2,IF(M27=3,3,IF(M27=2,4,IF(M27=1,5,IF(M27="",""))))))))))) | P27: =IF(I27="E",1,IF(I27="D",2,IF(I27="C",3,IF(I27="B",4,IF(I27="A",5,IF(I27=5,1,IF(I27=4,2,IF(I27=3,3,IF(I27=2,4,IF(I27=1,5,IF(I27="",""))))))))))) | Q27: =IF(J27="E",1,IF(J27="D",2,IF(J27="C",3,IF(J27="B",4,IF(J27="A",5,IF(J27=5,1,IF(J27=4,2,IF(J27=3,3,IF(J27=2,4,IF(J27=1,5,IF(J27="",""))))))))))) | R27: =IF($D$2<6,0,IF($D$2>=6,SUM(O27:Q27))) -> 0 | S27: =IF(D27="","",IF(H27="","",IF(H27=$D27,1,IF(H27<$D27,1,IF(H27>$D27,"",IF(H27="A+",1)))))) | T27: =IF(D27="","",IF(I27="","",IF(I27=$D27,1,IF(I27<$D27,1,IF(I27>$D27,"",IF(I27="A+",1)))))) | U27: =IF(D27="","",IF(J27="","",IF(J27=$D27,1,IF(J27<$D27,1,IF(J27>$D27,"",IF(J27="A+",1)))))) | V27: =IF(D27="","",IF(K27="","",IF(K27=$D27,1,IF(K27<$D27,1,IF(K27>$D27,"",IF(K27="A+",1)))))) | W27: =IF(D27="","",IF(L27="","",IF(L27=$D27,1,IF(L27<$D27,1,IF(L27>$D27,"",IF(L27="A+",1)))))) -> 1 | X27: =IF(D27="","",IF(M27="","",IF(M27=$D27,1,IF(M27<$D27,1,IF(M27>$D27,"",IF(M27="A+",1)))))) | Y27: =SUM(S27:X27) -> 1 | Z27: =IF($D27="A",$AK27) -> FALSE | AA27: =IF($D27="B",$AK27) -> FALSE | AB27: =IF($D27="C",$AK27) -> FALSE | AC27: =IF($D27="D",$AK27) -> 1 | AD27: =IF($D27="E",$AK27) -> FALSE | AE27: =IF($D27="1",$AK27) -> FALSE | AF27: =IF($D27=2,$AK27) -> FALSE | AG27: =IF($D27=3,$AK27) -> FALSE | AH27: =IF($D27=4,$AK27) -> FALSE | AI27: =IF($D27=5,$AK27) -> FALSE | AJ27: =IF(D27="","",IF(D27>0,COUNTA(H27:M27))) -> 1 | AK27: =IF(AJ27=0,"",IF(AJ27="","",IF(AJ27>0,Y27/AJ27))) -> 1 | AL27: =IF($D$2<6,"",IF(N27<3,"",IF(R27=15,"Vwo",IF(R27>13,"Havo/Vwo",IF(R27=13,"Havo",IF(R27>11,"TL/Havo",IF(R27=11,"TL",IF(R27>9,"Kader/TL",IF(R27=9,"Kader",IF(R27>6,"BBL/Kader",IF(R27=6,"BBL",IF(R27>3,"PRO/BBL",IF(R27=3,"PRO"))))))))))))) | AM27: =IF(AL27="","",IF(AL27="PRO",1,IF(AL27="PRO/BBL",2,IF(AL27="BBL",3,IF(AL27="BBL/Kader",4,IF(AL27="Kader",5,IF(AL27="Kader/TL",6,IF(AL27="TL",7,IF(AL27="TL/Havo",8,IF(AL27="Havo",9,IF(AL27="Havo/VWO",10,IF(AL27="VWO",11)))))))))))) | AN27: =IF(AM27="",0,IF(AM27<AR27,0,IF(AM27>=AR27,1))) -> 0 | AO27: =IF(F27="","",IF(F27="x",1)) | AP27: =IF(E27="","",IF(E27="X",1)) | AR27: =IF(G27="","",IF(G27="PRO",1,IF(G27="LWOO",2,IF(G27="BBL",3,IF(G27="BBL/Kader",4,IF(G27="Kader",5,IF(G27="Kader/TL",6,IF(G27="TL",7,IF(G27="TL/Havo",8,IF(G27="Havo",9,IF(G27="Havo/VWO",10,IF(G27="VWO",11)))))))))))) | AS27: =IF($D$2<6,"",IF(N27<3,"",IF(P27=1,"<1F",IF(P27>3,"2F",IF(P27>1,"1F"))))) | AT27: =IF($D$2<6,"",IF($N27<3,"",IF(Q27=1,"<1F",IF(Q27>3,"2F",IF(Q27>1,"1F"))))) | AU27: =IF($D$2<6,"",IF($N27<3,"",IF(O27<=2,"<1F",IF(O27>3,"1S",IF(O27>2,"1F"))))) | AW27: =IF(AV27="","",IF(AV27="PRO",1,IF(AV27="LWOO",2,IF(AV27="BBL",3,IF(AV27="BBL/Kader",4,IF(AV27="Kader",5,IF(AV27="Kader/TL",6,IF(AV27="TL",7,IF(AV27="TL/Havo",8,IF(AV27="Havo",9,IF(AV27="Havo/VWO",10,IF(AV27="VWO",11)))))))))))) | AX27: =IF(AW27="",0,IF(AW27<AR27,0,IF(AW27>=AR27,1))) -> 0 | AZ27: =IF(AY27="","",IF(AY27="PRO",1,IF(AY27="LWOO",2,IF(AY27="BBL",3,IF(AY27="BBL/Kader",4,IF(AY27="Kader",5,IF(AY27="Kader/TL",6,IF(AY27="TL",7,IF(AY27="TL/Havo",8,IF(AY27="Havo",9,IF(AY27="Havo/VWO",10,IF(AY27="VWO",11)))))))))))) | BA27: =IF(AZ27="",0,IF(AZ27<AW27,0,IF(AZ27>=AW27,1))) -> 0
A28: 11 | N28: =COUNTA(I28,J28,M28) -> 0 | O28: =IF(M28="E",1,IF(M28="D",2,IF(M28="C",3,IF(M28="B",4,IF(M28="A",5,IF(M28=5,1,IF(M28=4,2,IF(M28=3,3,IF(M28=2,4,IF(M28=1,5,IF(M28="",""))))))))))) | P28: =IF(I28="E",1,IF(I28="D",2,IF(I28="C",3,IF(I28="B",4,IF(I28="A",5,IF(I28=5,1,IF(I28=4,2,IF(I28=3,3,IF(I28=2,4,IF(I28=1,5,IF(I28="",""))))))))))) | Q28: =IF(J28="E",1,IF(J28="D",2,IF(J28="C",3,IF(J28="B",4,IF(J28="A",5,IF(J28=5,1,IF(J28=4,2,IF(J28=3,3,IF(J28=2,4,IF(J28=1,5,IF(J28="",""))))))))))) | R28: =IF($D$2<6,0,IF($D$2>=6,SUM(O28:Q28))) -> 0 | S28: =IF(D28="","",IF(H28="","",IF(H28=$D28,1,IF(H28<$D28,1,IF(H28>$D28,"",IF(H28="A+",1)))))) | T28: =IF(D28="","",IF(I28="","",IF(I28=$D28,1,IF(I28<$D28,1,IF(I28>$D28,"",IF(I28="A+",1)))))) | U28: =IF(D28="","",IF(J28="","",IF(J28=$D28,1,IF(J28<$D28,1,IF(J28>$D28,"",IF(J28="A+",1)))))) | V28: =IF(D28="","",IF(K28="","",IF(K28=$D28,1,IF(K28<$D28,1,IF(K28>$D28,"",IF(K28="A+",1)))))) | W28: =IF(D28="","",IF(L28="","",IF(L28=$D28,1,IF(L28<$D28,1,IF(L28>$D28,"",IF(L28="A+",1)))))) | X28: =IF(D28="","",IF(M28="","",IF(M28=$D28,1,IF(M28<$D28,1,IF(M28>$D28,"",IF(M28="A+",1)))))) | Y28: =SUM(S28:X28) -> 0 | Z28: =IF($D28="A",$AK28) -> FALSE | AA28: =IF($D28="B",$AK28) -> FALSE | AB28: =IF($D28="C",$AK28) -> FALSE | AC28: =IF($D28="D",$AK28) -> FALSE | AD28: =IF($D28="E",$AK28) -> FALSE | AE28: =IF($D28="1",$AK28) -> FALSE | AF28: =IF($D28=2,$AK28) -> FALSE | AG28: =IF($D28=3,$AK28) -> FALSE | AH28: =IF($D28=4,$AK28) -> FALSE | AI28: =IF($D28=5,$AK28) -> FALSE | AJ28: =IF(D28="","",IF(D28>0,COUNTA(H28:M28))) | AK28: =IF(AJ28=0,"",IF(AJ28="","",IF(AJ28>0,Y28/AJ28))) | AL28: =IF($D$2<6,"",IF(N28<3,"",IF(R28=15,"Vwo",IF(R28>13,"Havo/Vwo",IF(R28=13,"Havo",IF(R28>11,"TL/Havo",IF(R28=11,"TL",IF(R28>9,"Kader/TL",IF(R28=9,"Kader",IF(R28>6,"BBL/Kader",IF(R28=6,"BBL",IF(R28>3,"PRO/BBL",IF(R28=3,"PRO"))))))))))))) | AM28: =IF(AL28="","",IF(AL28="PRO",1,IF(AL28="PRO/BBL",2,IF(AL28="BBL",3,IF(AL28="BBL/Kader",4,IF(AL28="Kader",5,IF(AL28="Kader/TL",6,IF(AL28="TL",7,IF(AL28="TL/Havo",8,IF(AL28="Havo",9,IF(AL28="Havo/VWO",10,IF(AL28="VWO",11)))))))))))) | AN28: =IF(AM28="",0,IF(AM28<AR28,0,IF(AM28>=AR28,1))) -> 0 | AO28: =IF(F28="","",IF(F28="x",1)) | AP28: =IF(E28="","",IF(E28="X",1)) | AR28: =IF(G28="","",IF(G28="PRO",1,IF(G28="LWOO",2,IF(G28="BBL",3,IF(G28="BBL/Kader",4,IF(G28="Kader",5,IF(G28="Kader/TL",6,IF(G28="TL",7,IF(G28="TL/Havo",8,IF(G28="Havo",9,IF(G28="Havo/VWO",10,IF(G28="VWO",11)))))))))))) | AS28: =IF($D$2<6,"",IF(N28<3,"",IF(P28=1,"<1F",IF(P28>3,"2F",IF(P28>1,"1F"))))) | AT28: =IF($D$2<6,"",IF($N28<3,"",IF(Q28=1,"<1F",IF(Q28>3,"2F",IF(Q28>1,"1F"))))) | AU28: =IF($D$2<6,"",IF($N28<3,"",IF(O28<=2,"<1F",IF(O28>3,"1S",IF(O28>2,"1F"))))) | AW28: =IF(AV28="","",IF(AV28="PRO",1,IF(AV28="LWOO",2,IF(AV28="BBL",3,IF(AV28="BBL/Kader",4,IF(AV28="Kader",5,IF(AV28="Kader/TL",6,IF(AV28="TL",7,IF(AV28="TL/Havo",8,IF(AV28="Havo",9,IF(AV28="Havo/VWO",10,IF(AV28="VWO",11)))))))))))) | AX28: =IF(AW28="",0,IF(AW28<AR28,0,IF(AW28>=AR28,1))) -> 0 | AZ28: =IF(AY28="","",IF(AY28="PRO",1,IF(AY28="LWOO",2,IF(AY28="BBL",3,IF(AY28="BBL/Kader",4,IF(AY28="Kader",5,IF(AY28="Kader/TL",6,IF(AY28="TL",7,IF(AY28="TL/Havo",8,IF(AY28="Havo",9,IF(AY28="Havo/VWO",10,IF(AY28="VWO",11)))))))))))) | BA28: =IF(AZ28="",0,IF(AZ28<AW28,0,IF(AZ28>=AW28,1))) -> 0
A29: 12 | N29: =COUNTA(I29,J29,M29) -> 0 | O29: =IF(M29="E",1,IF(M29="D",2,IF(M29="C",3,IF(M29="B",4,IF(M29="A",5,IF(M29=5,1,IF(M29=4,2,IF(M29=3,3,IF(M29=2,4,IF(M29=1,5,IF(M29="",""))))))))))) | P29: =IF(I29="E",1,IF(I29="D",2,IF(I29="C",3,IF(I29="B",4,IF(I29="A",5,IF(I29=5,1,IF(I29=4,2,IF(I29=3,3,IF(I29=2,4,IF(I29=1,5,IF(I29="",""))))))))))) | Q29: =IF(J29="E",1,IF(J29="D",2,IF(J29="C",3,IF(J29="B",4,IF(J29="A",5,IF(J29=5,1,IF(J29=4,2,IF(J29=3,3,IF(J29=2,4,IF(J29=1,5,IF(J29="",""))))))))))) | R29: =IF($D$2<6,0,IF($D$2>=6,SUM(O29:Q29))) -> 0 | S29: =IF(D29="","",IF(H29="","",IF(H29=$D29,1,IF(H29<$D29,1,IF(H29>$D29,"",IF(H29="A+",1)))))) | T29: =IF(D29="","",IF(I29="","",IF(I29=$D29,1,IF(I29<$D29,1,IF(I29>$D29,"",IF(I29="A+",1)))))) | U29: =IF(D29="","",IF(J29="","",IF(J29=$D29,1,IF(J29<$D29,1,IF(J29>$D29,"",IF(J29="A+",1)))))) | V29: =IF(D29="","",IF(K29="","",IF(K29=$D29,1,IF(K29<$D29,1,IF(K29>$D29,"",IF(K29="A+",1)))))) | W29: =IF(D29="","",IF(L29="","",IF(L29=$D29,1,IF(L29<$D29,1,IF(L29>$D29,"",IF(L29="A+",1)))))) | X29: =IF(D29="","",IF(M29="","",IF(M29=$D29,1,IF(M29<$D29,1,IF(M29>$D29,"",IF(M29="A+",1)))))) | Y29: =SUM(S29:X29) -> 0 | Z29: =IF($D29="A",$AK29) -> FALSE | AA29: =IF($D29="B",$AK29) -> FALSE | AB29: =IF($D29="C",$AK29) -> FALSE | AC29: =IF($D29="D",$AK29) -> FALSE | AD29: =IF($D29="E",$AK29) -> FALSE | AE29: =IF($D29="1",$AK29) -> FALSE | AF29: =IF($D29=2,$AK29) -> FALSE | AG29: =IF($D29=3,$AK29) -> FALSE | AH29: =IF($D29=4,$AK29) -> FALSE | AI29: =IF($D29=5,$AK29) -> FALSE | AJ29: =IF(D29="","",IF(D29>0,COUNTA(H29:M29))) | AK29: =IF(AJ29=0,"",IF(AJ29="","",IF(AJ29>0,Y29/AJ29))) | AL29: =IF($D$2<6,"",IF(N29<3,"",IF(R29=15,"Vwo",IF(R29>13,"Havo/Vwo",IF(R29=13,"Havo",IF(R29>11,"TL/Havo",IF(R29=11,"TL",IF(R29>9,"Kader/TL",IF(R29=9,"Kader",IF(R29>6,"BBL/Kader",IF(R29=6,"BBL",IF(R29>3,"PRO/BBL",IF(R29=3,"PRO"))))))))))))) | AM29: =IF(AL29="","",IF(AL29="PRO",1,IF(AL29="PRO/BBL",2,IF(AL29="BBL",3,IF(AL29="BBL/Kader",4,IF(AL29="Kader",5,IF(AL29="Kader/TL",6,IF(AL29="TL",7,IF(AL29="TL/Havo",8,IF(AL29="Havo",9,IF(AL29="Havo/VWO",10,IF(AL29="VWO",11)))))))))))) | AN29: =IF(AM29="",0,IF(AM29<AR29,0,IF(AM29>=AR29,1))) -> 0 | AO29: =IF(F29="","",IF(F29="x",1)) | AP29: =IF(E29="","",IF(E29="X",1)) | AR29: =IF(G29="","",IF(G29="PRO",1,IF(G29="LWOO",2,IF(G29="BBL",3,IF(G29="BBL/Kader",4,IF(G29="Kader",5,IF(G29="Kader/TL",6,IF(G29="TL",7,IF(G29="TL/Havo",8,IF(G29="Havo",9,IF(G29="Havo/VWO",10,IF(G29="VWO",11)))))))))))) | AS29: =IF($D$2<6,"",IF(N29<3,"",IF(P29=1,"<1F",IF(P29>3,"2F",IF(P29>1,"1F"))))) | AT29: =IF($D$2<6,"",IF($N29<3,"",IF(Q29=1,"<1F",IF(Q29>3,"2F",IF(Q29>1,"1F"))))) | AU29: =IF($D$2<6,"",IF($N29<3,"",IF(O29<=2,"<1F",IF(O29>3,"1S",IF(O29>2,"1F"))))) | AW29: =IF(AV29="","",IF(AV29="PRO",1,IF(AV29="LWOO",2,IF(AV29="BBL",3,IF(AV29="BBL/Kader",4,IF(AV29="Kader",5,IF(AV29="Kader/TL",6,IF(AV29="TL",7,IF(AV29="TL/Havo",8,IF(AV29="Havo",9,IF(AV29="Havo/VWO",10,IF(AV29="VWO",11)))))))))))) | AX29: =IF(AW29="",0,IF(AW29<AR29,0,IF(AW29>=AR29,1))) -> 0 | AZ29: =IF(AY29="","",IF(AY29="PRO",1,IF(AY29="LWOO",2,IF(AY29="BBL",3,IF(AY29="BBL/Kader",4,IF(AY29="Kader",5,IF(AY29="Kader/TL",6,IF(AY29="TL",7,IF(AY29="TL/Havo",8,IF(AY29="Havo",9,IF(AY29="Havo/VWO",10,IF(AY29="VWO",11)))))))))))) | BA29: =IF(AZ29="",0,IF(AZ29<AW29,0,IF(AZ29>=AW29,1))) -> 0
A30: 13 | N30: =COUNTA(I30,J30,M30) -> 0 | O30: =IF(M30="E",1,IF(M30="D",2,IF(M30="C",3,IF(M30="B",4,IF(M30="A",5,IF(M30=5,1,IF(M30=4,2,IF(M30=3,3,IF(M30=2,4,IF(M30=1,5,IF(M30="",""))))))))))) | P30: =IF(I30="E",1,IF(I30="D",2,IF(I30="C",3,IF(I30="B",4,IF(I30="A",5,IF(I30=5,1,IF(I30=4,2,IF(I30=3,3,IF(I30=2,4,IF(I30=1,5,IF(I30="",""))))))))))) | Q30: =IF(J30="E",1,IF(J30="D",2,IF(J30="C",3,IF(J30="B",4,IF(J30="A",5,IF(J30=5,1,IF(J30=4,2,IF(J30=3,3,IF(J30=2,4,IF(J30=1,5,IF(J30="",""))))))))))) | R30: =IF($D$2<6,0,IF($D$2>=6,SUM(O30:Q30))) -> 0 | S30: =IF(D30="","",IF(H30="","",IF(H30=$D30,1,IF(H30<$D30,1,IF(H30>$D30,"",IF(H30="A+",1)))))) | T30: =IF(D30="","",IF(I30="","",IF(I30=$D30,1,IF(I30<$D30,1,IF(I30>$D30,"",IF(I30="A+",1)))))) | U30: =IF(D30="","",IF(J30="","",IF(J30=$D30,1,IF(J30<$D30,1,IF(J30>$D30,"",IF(J30="A+",1)))))) | V30: =IF(D30="","",IF(K30="","",IF(K30=$D30,1,IF(K30<$D30,1,IF(K30>$D30,"",IF(K30="A+",1)))))) | W30: =IF(D30="","",IF(L30="","",IF(L30=$D30,1,IF(L30<$D30,1,IF(L30>$D30,"",IF(L30="A+",1)))))) | X30: =IF(D30="","",IF(M30="","",IF(M30=$D30,1,IF(M30<$D30,1,IF(M30>$D30,"",IF(M30="A+",1)))))) | Y30: =SUM(S30:X30) -> 0 | Z30: =IF($D30="A",$AK30) -> FALSE | AA30: =IF($D30="B",$AK30) -> FALSE | AB30: =IF($D30="C",$AK30) -> FALSE | AC30: =IF($D30="D",$AK30) -> FALSE | AD30: =IF($D30="E",$AK30) -> FALSE | AE30: =IF($D30="1",$AK30) -> FALSE | AF30: =IF($D30=2,$AK30) -> FALSE | AG30: =IF($D30=3,$AK30) -> FALSE | AH30: =IF($D30=4,$AK30) -> FALSE | AI30: =IF($D30=5,$AK30) -> FALSE | AJ30: =IF(D30="","",IF(D30>0,COUNTA(H30:M30))) | AK30: =IF(AJ30=0,"",IF(AJ30="","",IF(AJ30>0,Y30/AJ30))) | AL30: =IF($D$2<6,"",IF(N30<3,"",IF(R30=15,"Vwo",IF(R30>13,"Havo/Vwo",IF(R30=13,"Havo",IF(R30>11,"TL/Havo",IF(R30=11,"TL",IF(R30>9,"Kader/TL",IF(R30=9,"Kader",IF(R30>6,"BBL/Kader",IF(R30=6,"BBL",IF(R30>3,"PRO/BBL",IF(R30=3,"PRO"))))))))))))) | AM30: =IF(AL30="","",IF(AL30="PRO",1,IF(AL30="PRO/BBL",2,IF(AL30="BBL",3,IF(AL30="BBL/Kader",4,IF(AL30="Kader",5,IF(AL30="Kader/TL",6,IF(AL30="TL",7,IF(AL30="TL/Havo",8,IF(AL30="Havo",9,IF(AL30="Havo/VWO",10,IF(AL30="VWO",11)))))))))))) | AN30: =IF(AM30="",0,IF(AM30<AR30,0,IF(AM30>=AR30,1))) -> 0 | AO30: =IF(F30="","",IF(F30="x",1)) | AP30: =IF(E30="","",IF(E30="X",1)) | AR30: =IF(G30="","",IF(G30="PRO",1,IF(G30="LWOO",2,IF(G30="BBL",3,IF(G30="BBL/Kader",4,IF(G30="Kader",5,IF(G30="Kader/TL",6,IF(G30="TL",7,IF(G30="TL/Havo",8,IF(G30="Havo",9,IF(G30="Havo/VWO",10,IF(G30="VWO",11)))))))))))) | AS30: =IF($D$2<6,"",IF(N30<3,"",IF(P30=1,"<1F",IF(P30>3,"2F",IF(P30>1,"1F"))))) | AT30: =IF($D$2<6,"",IF($N30<3,"",IF(Q30=1,"<1F",IF(Q30>3,"2F",IF(Q30>1,"1F"))))) | AU30: =IF($D$2<6,"",IF($N30<3,"",IF(O30<=2,"<1F",IF(O30>3,"1S",IF(O30>2,"1F"))))) | AW30: =IF(AV30="","",IF(AV30="PRO",1,IF(AV30="LWOO",2,IF(AV30="BBL",3,IF(AV30="BBL/Kader",4,IF(AV30="Kader",5,IF(AV30="Kader/TL",6,IF(AV30="TL",7,IF(AV30="TL/Havo",8,IF(AV30="Havo",9,IF(AV30="Havo/VWO",10,IF(AV30="VWO",11)))))))))))) | AX30: =IF(AW30="",0,IF(AW30<AR30,0,IF(AW30>=AR30,1))) -> 0 | AZ30: =IF(AY30="","",IF(AY30="PRO",1,IF(AY30="LWOO",2,IF(AY30="BBL",3,IF(AY30="BBL/Kader",4,IF(AY30="Kader",5,IF(AY30="Kader/TL",6,IF(AY30="TL",7,IF(AY30="TL/Havo",8,IF(AY30="Havo",9,IF(AY30="Havo/VWO",10,IF(AY30="VWO",11)))))))))))) | BA30: =IF(AZ30="",0,IF(AZ30<AW30,0,IF(AZ30>=AW30,1))) -> 0
A31: 14 | N31: =COUNTA(I31,J31,M31) -> 0 | O31: =IF(M31="E",1,IF(M31="D",2,IF(M31="C",3,IF(M31="B",4,IF(M31="A",5,IF(M31=5,1,IF(M31=4,2,IF(M31=3,3,IF(M31=2,4,IF(M31=1,5,IF(M31="",""))))))))))) | P31: =IF(I31="E",1,IF(I31="D",2,IF(I31="C",3,IF(I31="B",4,IF(I31="A",5,IF(I31=5,1,IF(I31=4,2,IF(I31=3,3,IF(I31=2,4,IF(I31=1,5,IF(I31="",""))))))))))) | Q31: =IF(J31="E",1,IF(J31="D",2,IF(J31="C",3,IF(J31="B",4,IF(J31="A",5,IF(J31=5,1,IF(J31=4,2,IF(J31=3,3,IF(J31=2,4,IF(J31=1,5,IF(J31="",""))))))))))) | R31: =IF($D$2<6,0,IF($D$2>=6,SUM(O31:Q31))) -> 0 | S31: =IF(D31="","",IF(H31="","",IF(H31=$D31,1,IF(H31<$D31,1,IF(H31>$D31,"",IF(H31="A+",1)))))) | T31: =IF(D31="","",IF(I31="","",IF(I31=$D31,1,IF(I31<$D31,1,IF(I31>$D31,"",IF(I31="A+",1)))))) | U31: =IF(D31="","",IF(J31="","",IF(J31=$D31,1,IF(J31<$D31,1,IF(J31>$D31,"",IF(J31="A+",1)))))) | V31: =IF(D31="","",IF(K31="","",IF(K31=$D31,1,IF(K31<$D31,1,IF(K31>$D31,"",IF(K31="A+",1)))))) | W31: =IF(D31="","",IF(L31="","",IF(L31=$D31,1,IF(L31<$D31,1,IF(L31>$D31,"",IF(L31="A+",1)))))) | X31: =IF(D31="","",IF(M31="","",IF(M31=$D31,1,IF(M31<$D31,1,IF(M31>$D31,"",IF(M31="A+",1)))))) | Y31: =SUM(S31:X31) -> 0 | Z31: =IF($D31="A",$AK31) -> FALSE | AA31: =IF($D31="B",$AK31) -> FALSE | AB31: =IF($D31="C",$AK31) -> FALSE | AC31: =IF($D31="D",$AK31) -> FALSE | AD31: =IF($D31="E",$AK31) -> FALSE | AE31: =IF($D31="1",$AK31) -> FALSE | AF31: =IF($D31=2,$AK31) -> FALSE | AG31: =IF($D31=3,$AK31) -> FALSE | AH31: =IF($D31=4,$AK31) -> FALSE | AI31: =IF($D31=5,$AK31) -> FALSE | AJ31: =IF(D31="","",IF(D31>0,COUNTA(H31:M31))) | AK31: =IF(AJ31=0,"",IF(AJ31="","",IF(AJ31>0,Y31/AJ31))) | AL31: =IF($D$2<6,"",IF(N31<3,"",IF(R31=15,"Vwo",IF(R31>13,"Havo/Vwo",IF(R31=13,"Havo",IF(R31>11,"TL/Havo",IF(R31=11,"TL",IF(R31>9,"Kader/TL",IF(R31=9,"Kader",IF(R31>6,"BBL/Kader",IF(R31=6,"BBL",IF(R31>3,"PRO/BBL",IF(R31=3,"PRO"))))))))))))) | AM31: =IF(AL31="","",IF(AL31="PRO",1,IF(AL31="PRO/BBL",2,IF(AL31="BBL",3,IF(AL31="BBL/Kader",4,IF(AL31="Kader",5,IF(AL31="Kader/TL",6,IF(AL31="TL",7,IF(AL31="TL/Havo",8,IF(AL31="Havo",9,IF(AL31="Havo/VWO",10,IF(AL31="VWO",11)))))))))))) | AN31: =IF(AM31="",0,IF(AM31<AR31,0,IF(AM31>=AR31,1))) -> 0 | AO31: =IF(F31="","",IF(F31="x",1)) | AP31: =IF(E31="","",IF(E31="X",1)) | AR31: =IF(G31="","",IF(G31="PRO",1,IF(G31="LWOO",2,IF(G31="BBL",3,IF(G31="BBL/Kader",4,IF(G31="Kader",5,IF(G31="Kader/TL",6,IF(G31="TL",7,IF(G31="TL/Havo",8,IF(G31="Havo",9,IF(G31="Havo/VWO",10,IF(G31="VWO",11)))))))))))) | AS31: =IF($D$2<6,"",IF(N31<3,"",IF(P31=1,"<1F",IF(P31>3,"2F",IF(P31>1,"1F"))))) | AT31: =IF($D$2<6,"",IF($N31<3,"",IF(Q31=1,"<1F",IF(Q31>3,"2F",IF(Q31>1,"1F"))))) | AU31: =IF($D$2<6,"",IF($N31<3,"",IF(O31<=2,"<1F",IF(O31>3,"1S",IF(O31>2,"1F"))))) | AW31: =IF(AV31="","",IF(AV31="PRO",1,IF(AV31="LWOO",2,IF(AV31="BBL",3,IF(AV31="BBL/Kader",4,IF(AV31="Kader",5,IF(AV31="Kader/TL",6,IF(AV31="TL",7,IF(AV31="TL/Havo",8,IF(AV31="Havo",9,IF(AV31="Havo/VWO",10,IF(AV31="VWO",11)))))))))))) | AX31: =IF(AW31="",0,IF(AW31<AR31,0,IF(AW31>=AR31,1))) -> 0 | AZ31: =IF(AY31="","",IF(AY31="PRO",1,IF(AY31="LWOO",2,IF(AY31="BBL",3,IF(AY31="BBL/Kader",4,IF(AY31="Kader",5,IF(AY31="Kader/TL",6,IF(AY31="TL",7,IF(AY31="TL/Havo",8,IF(AY31="Havo",9,IF(AY31="Havo/VWO",10,IF(AY31="VWO",11)))))))))))) | BA31: =IF(AZ31="",0,IF(AZ31<AW31,0,IF(AZ31>=AW31,1))) -> 0
A32: 15 | N32: =COUNTA(I32,J32,M32) -> 0 | O32: =IF(M32="E",1,IF(M32="D",2,IF(M32="C",3,IF(M32="B",4,IF(M32="A",5,IF(M32=5,1,IF(M32=4,2,IF(M32=3,3,IF(M32=2,4,IF(M32=1,5,IF(M32="",""))))))))))) | P32: =IF(I32="E",1,IF(I32="D",2,IF(I32="C",3,IF(I32="B",4,IF(I32="A",5,IF(I32=5,1,IF(I32=4,2,IF(I32=3,3,IF(I32=2,4,IF(I32=1,5,IF(I32="",""))))))))))) | Q32: =IF(J32="E",1,IF(J32="D",2,IF(J32="C",3,IF(J32="B",4,IF(J32="A",5,IF(J32=5,1,IF(J32=4,2,IF(J32=3,3,IF(J32=2,4,IF(J32=1,5,IF(J32="",""))))))))))) | R32: =IF($D$2<6,0,IF($D$2>=6,SUM(O32:Q32))) -> 0 | S32: =IF(D32="","",IF(H32="","",IF(H32=$D32,1,IF(H32<$D32,1,IF(H32>$D32,"",IF(H32="A+",1)))))) | T32: =IF(D32="","",IF(I32="","",IF(I32=$D32,1,IF(I32<$D32,1,IF(I32>$D32,"",IF(I32="A+",1)))))) | U32: =IF(D32="","",IF(J32="","",IF(J32=$D32,1,IF(J32<$D32,1,IF(J32>$D32,"",IF(J32="A+",1)))))) | V32: =IF(D32="","",IF(K32="","",IF(K32=$D32,1,IF(K32<$D32,1,IF(K32>$D32,"",IF(K32="A+",1)))))) | W32: =IF(D32="","",IF(L32="","",IF(L32=$D32,1,IF(L32<$D32,1,IF(L32>$D32,"",IF(L32="A+",1)))))) | X32: =IF(D32="","",IF(M32="","",IF(M32=$D32,1,IF(M32<$D32,1,IF(M32>$D32,"",IF(M32="A+",1)))))) | Y32: =SUM(S32:X32) -> 0 | Z32: =IF($D32="A",$AK32) -> FALSE | AA32: =IF($D32="B",$AK32) -> FALSE | AB32: =IF($D32="C",$AK32) -> FALSE | AC32: =IF($D32="D",$AK32) -> FALSE | AD32: =IF($D32="E",$AK32) -> FALSE | AE32: =IF($D32="1",$AK32) -> FALSE | AF32: =IF($D32=2,$AK32) -> FALSE | AG32: =IF($D32=3,$AK32) -> FALSE | AH32: =IF($D32=4,$AK32) -> FALSE | AI32: =IF($D32=5,$AK32) -> FALSE | AJ32: =IF(D32="","",IF(D32>0,COUNTA(H32:M32))) | AK32: =IF(AJ32=0,"",IF(AJ32="","",IF(AJ32>0,Y32/AJ32))) | AL32: =IF($D$2<6,"",IF(N32<3,"",IF(R32=15,"Vwo",IF(R32>13,"Havo/Vwo",IF(R32=13,"Havo",IF(R32>11,"TL/Havo",IF(R32=11,"TL",IF(R32>9,"Kader/TL",IF(R32=9,"Kader",IF(R32>6,"BBL/Kader",IF(R32=6,"BBL",IF(R32>3,"PRO/BBL",IF(R32=3,"PRO"))))))))))))) | AM32: =IF(AL32="","",IF(AL32="PRO",1,IF(AL32="PRO/BBL",2,IF(AL32="BBL",3,IF(AL32="BBL/Kader",4,IF(AL32="Kader",5,IF(AL32="Kader/TL",6,IF(AL32="TL",7,IF(AL32="TL/Havo",8,IF(AL32="Havo",9,IF(AL32="Havo/VWO",10,IF(AL32="VWO",11)))))))))))) | AN32: =IF(AM32="",0,IF(AM32<AR32,0,IF(AM32>=AR32,1))) -> 0 | AO32: =IF(F32="","",IF(F32="x",1)) | AP32: =IF(E32="","",IF(E32="X",1)) | AR32: =IF(G32="","",IF(G32="PRO",1,IF(G32="LWOO",2,IF(G32="BBL",3,IF(G32="BBL/Kader",4,IF(G32="Kader",5,IF(G32="Kader/TL",6,IF(G32="TL",7,IF(G32="TL/Havo",8,IF(G32="Havo",9,IF(G32="Havo/VWO",10,IF(G32="VWO",11)))))))))))) | AS32: =IF($D$2<6,"",IF(N32<3,"",IF(P32=1,"<1F",IF(P32>3,"2F",IF(P32>1,"1F"))))) | AT32: =IF($D$2<6,"",IF($N32<3,"",IF(Q32=1,"<1F",IF(Q32>3,"2F",IF(Q32>1,"1F"))))) | AU32: =IF($D$2<6,"",IF($N32<3,"",IF(O32<=2,"<1F",IF(O32>3,"1S",IF(O32>2,"1F"))))) | AW32: =IF(AV32="","",IF(AV32="PRO",1,IF(AV32="LWOO",2,IF(AV32="BBL",3,IF(AV32="BBL/Kader",4,IF(AV32="Kader",5,IF(AV32="Kader/TL",6,IF(AV32="TL",7,IF(AV32="TL/Havo",8,IF(AV32="Havo",9,IF(AV32="Havo/VWO",10,IF(AV32="VWO",11)))))))))))) | AX32: =IF(AW32="",0,IF(AW32<AR32,0,IF(AW32>=AR32,1))) -> 0 | AZ32: =IF(AY32="","",IF(AY32="PRO",1,IF(AY32="LWOO",2,IF(AY32="BBL",3,IF(AY32="BBL/Kader",4,IF(AY32="Kader",5,IF(AY32="Kader/TL",6,IF(AY32="TL",7,IF(AY32="TL/Havo",8,IF(AY32="Havo",9,IF(AY32="Havo/VWO",10,IF(AY32="VWO",11)))))))))))) | BA32: =IF(AZ32="",0,IF(AZ32<AW32,0,IF(AZ32>=AW32,1))) -> 0
A33: 16 | N33: =COUNTA(I33,J33,M33) -> 0 | O33: =IF(M33="E",1,IF(M33="D",2,IF(M33="C",3,IF(M33="B",4,IF(M33="A",5,IF(M33=5,1,IF(M33=4,2,IF(M33=3,3,IF(M33=2,4,IF(M33=1,5,IF(M33="",""))))))))))) | P33: =IF(I33="E",1,IF(I33="D",2,IF(I33="C",3,IF(I33="B",4,IF(I33="A",5,IF(I33=5,1,IF(I33=4,2,IF(I33=3,3,IF(I33=2,4,IF(I33=1,5,IF(I33="",""))))))))))) | Q33: =IF(J33="E",1,IF(J33="D",2,IF(J33="C",3,IF(J33="B",4,IF(J33="A",5,IF(J33=5,1,IF(J33=4,2,IF(J33=3,3,IF(J33=2,4,IF(J33=1,5,IF(J33="",""))))))))))) | R33: =IF($D$2<6,0,IF($D$2>=6,SUM(O33:Q33))) -> 0 | S33: =IF(D33="","",IF(H33="","",IF(H33=$D33,1,IF(H33<$D33,1,IF(H33>$D33,"",IF(H33="A+",1)))))) | T33: =IF(D33="","",IF(I33="","",IF(I33=$D33,1,IF(I33<$D33,1,IF(I33>$D33,"",IF(I33="A+",1)))))) | U33: =IF(D33="","",IF(J33="","",IF(J33=$D33,1,IF(J33<$D33,1,IF(J33>$D33,"",IF(J33="A+",1)))))) | V33: =IF(D33="","",IF(K33="","",IF(K33=$D33,1,IF(K33<$D33,1,IF(K33>$D33,"",IF(K33="A+",1)))))) | W33: =IF(D33="","",IF(L33="","",IF(L33=$D33,1,IF(L33<$D33,1,IF(L33>$D33,"",IF(L33="A+",1)))))) | X33: =IF(D33="","",IF(M33="","",IF(M33=$D33,1,IF(M33<$D33,1,IF(M33>$D33,"",IF(M33="A+",1)))))) | Y33: =SUM(S33:X33) -> 0 | Z33: =IF($D33="A",$AK33) -> FALSE | AA33: =IF($D33="B",$AK33) -> FALSE | AB33: =IF($D33="C",$AK33) -> FALSE | AC33: =IF($D33="D",$AK33) -> FALSE | AD33: =IF($D33="E",$AK33) -> FALSE | AE33: =IF($D33="1",$AK33) -> FALSE | AF33: =IF($D33=2,$AK33) -> FALSE | AG33: =IF($D33=3,$AK33) -> FALSE | AH33: =IF($D33=4,$AK33) -> FALSE | AI33: =IF($D33=5,$AK33) -> FALSE | AJ33: =IF(D33="","",IF(D33>0,COUNTA(H33:M33))) | AK33: =IF(AJ33=0,"",IF(AJ33="","",IF(AJ33>0,Y33/AJ33))) | AL33: =IF($D$2<6,"",IF(N33<3,"",IF(R33=15,"Vwo",IF(R33>13,"Havo/Vwo",IF(R33=13,"Havo",IF(R33>11,"TL/Havo",IF(R33=11,"TL",IF(R33>9,"Kader/TL",IF(R33=9,"Kader",IF(R33>6,"BBL/Kader",IF(R33=6,"BBL",IF(R33>3,"PRO/BBL",IF(R33=3,"PRO"))))))))))))) | AM33: =IF(AL33="","",IF(AL33="PRO",1,IF(AL33="PRO/BBL",2,IF(AL33="BBL",3,IF(AL33="BBL/Kader",4,IF(AL33="Kader",5,IF(AL33="Kader/TL",6,IF(AL33="TL",7,IF(AL33="TL/Havo",8,IF(AL33="Havo",9,IF(AL33="Havo/VWO",10,IF(AL33="VWO",11)))))))))))) | AN33: =IF(AM33="",0,IF(AM33<AR33,0,IF(AM33>=AR33,1))) -> 0 | AO33: =IF(F33="","",IF(F33="x",1)) | AP33: =IF(E33="","",IF(E33="X",1)) | AR33: =IF(G33="","",IF(G33="PRO",1,IF(G33="LWOO",2,IF(G33="BBL",3,IF(G33="BBL/Kader",4,IF(G33="Kader",5,IF(G33="Kader/TL",6,IF(G33="TL",7,IF(G33="TL/Havo",8,IF(G33="Havo",9,IF(G33="Havo/VWO",10,IF(G33="VWO",11)))))))))))) | AS33: =IF($D$2<6,"",IF(N33<3,"",IF(P33=1,"<1F",IF(P33>3,"2F",IF(P33>1,"1F"))))) | AT33: =IF($D$2<6,"",IF($N33<3,"",IF(Q33=1,"<1F",IF(Q33>3,"2F",IF(Q33>1,"1F"))))) | AU33: =IF($D$2<6,"",IF($N33<3,"",IF(O33<=2,"<1F",IF(O33>3,"1S",IF(O33>2,"1F"))))) | AW33: =IF(AV33="","",IF(AV33="PRO",1,IF(AV33="LWOO",2,IF(AV33="BBL",3,IF(AV33="BBL/Kader",4,IF(AV33="Kader",5,IF(AV33="Kader/TL",6,IF(AV33="TL",7,IF(AV33="TL/Havo",8,IF(AV33="Havo",9,IF(AV33="Havo/VWO",10,IF(AV33="VWO",11)))))))))))) | AX33: =IF(AW33="",0,IF(AW33<AR33,0,IF(AW33>=AR33,1))) -> 0 | AZ33: =IF(AY33="","",IF(AY33="PRO",1,IF(AY33="LWOO",2,IF(AY33="BBL",3,IF(AY33="BBL/Kader",4,IF(AY33="Kader",5,IF(AY33="Kader/TL",6,IF(AY33="TL",7,IF(AY33="TL/Havo",8,IF(AY33="Havo",9,IF(AY33="Havo/VWO",10,IF(AY33="VWO",11)))))))))))) | BA33: =IF(AZ33="",0,IF(AZ33<AW33,0,IF(AZ33>=AW33,1))) -> 0
